BEGIN:VCALENDAR
VERSION:2.0
PRODID:-//Protestantse Gemeente Maarn-Maarsbergen - ECPv6.15.12.2//NONSGML v1.0//EN
CALSCALE:GREGORIAN
METHOD:PUBLISH
X-WR-CALNAME:Protestantse Gemeente Maarn-Maarsbergen
X-ORIGINAL-URL:https://pknmm.nl
X-WR-CALDESC:Evenementen voor Protestantse Gemeente Maarn-Maarsbergen
REFRESH-INTERVAL;VALUE=DURATION:PT1H
X-Robots-Tag:noindex
X-PUBLISHED-TTL:PT1H
BEGIN:VTIMEZONE
TZID:Europe/Amsterdam
BEGIN:DAYLIGHT
TZOFFSETFROM:+0100
TZOFFSETTO:+0200
TZNAME:CEST
DTSTART:20220327T010000
END:DAYLIGHT
BEGIN:STANDARD
TZOFFSETFROM:+0200
TZOFFSETTO:+0100
TZNAME:CET
DTSTART:20221030T010000
END:STANDARD
BEGIN:DAYLIGHT
TZOFFSETFROM:+0100
TZOFFSETTO:+0200
TZNAME:CEST
DTSTART:20230326T010000
END:DAYLIGHT
BEGIN:STANDARD
TZOFFSETFROM:+0200
TZOFFSETTO:+0100
TZNAME:CET
DTSTART:20231029T010000
END:STANDARD
BEGIN:DAYLIGHT
TZOFFSETFROM:+0100
TZOFFSETTO:+0200
TZNAME:CEST
DTSTART:20240331T010000
END:DAYLIGHT
BEGIN:STANDARD
TZOFFSETFROM:+0200
TZOFFSETTO:+0100
TZNAME:CET
DTSTART:20241027T010000
END:STANDARD
END:VTIMEZONE
BEGIN:VEVENT
DTSTART;TZID=Europe/Amsterdam:20231102T200000
DTEND;TZID=Europe/Amsterdam:20231102T220000
DTSTAMP:20260421T122018
CREATED:20231031T152935Z
LAST-MODIFIED:20231031T154208Z
UID:10004016-1698955200-1698962400@pknmm.nl
SUMMARY:Filmavond Wijk bij Duurstede
DESCRIPTION:2 november 20:00 uur: Filmavond ‘Where are you\, Adam?’ | Wijk Bij Duurstede \nEen Oekraïense documentaire over monniken op Athos \nDe berg Athos ligt op een schiereiland in het noordoosten van Griekenland en is een autonome monnikenrepubliek. In tientallen kloosters leven er al eeuwenlang oosters-orthodoxe monniken. De Oekraïense diaken en filmproducent Alexandr Plyska mocht in een van de kloosters filmen en maakte de documentaire Where are you\, Adam? Prachtige natuurbeelden worden daarin verweven met het ononderbroken bidden en werken van de monniken te midden van hun moeilijkheden en beproevingen. Centrale figuur is de oude hegumen (abt) Gerdona Gregy\, wiens lange spirituele ervaring leidde tot een diep verstaan van de menselijke ziel. Die verlangt volgens hem terug naar de menselijke natuur van Adam voor de zondeval. De film biedt een eerbiedwaardige waarneming van een wereld waar de tijd niet door de klok wordt beheerst. ‘In stilte met de monniken samen zijn\, dat is wat we beoogden’\, aldus Plyska. De avond heeft een dubbel doel: In Wijk willen we graag weer een spirituele film laten zien\, zoals eerder over Luther en Bonhoeffer. Daarnaast steunt deze vertoning in moeilijke tijden de Oekraïense teamleden die achter dit project. De entree is voor hen\, vanuit de kerk bieden we de zaal en de koffie aan. \nDatum: donderdag 2 november 2023\nTijd en plaats: 20.00 uur in De Open Hof\nEntree: € 10\, contant aan de zaal\nGraag reserveren via j.offringa@planet.nl\, M: 06 4989 4905
URL:https://pknmm.nl/activiteit/filmavond-wijk-bij-duurstede/
LOCATION:Open Hof\, Kerkstraatje 4\, Wijk bij Duurstede\, 3961BA
END:VEVENT
END:VCALENDAR