BEGIN:VCALENDAR
VERSION:2.0
PRODID:-//Protestantse Gemeente Maarn-Maarsbergen - ECPv6.15.12.2//NONSGML v1.0//EN
CALSCALE:GREGORIAN
METHOD:PUBLISH
X-ORIGINAL-URL:https://pknmm.nl
X-WR-CALDESC:Evenementen voor Protestantse Gemeente Maarn-Maarsbergen
REFRESH-INTERVAL;VALUE=DURATION:PT1H
X-Robots-Tag:noindex
X-PUBLISHED-TTL:PT1H
BEGIN:VTIMEZONE
TZID:Europe/Amsterdam
BEGIN:DAYLIGHT
TZOFFSETFROM:+0100
TZOFFSETTO:+0200
TZNAME:CEST
DTSTART:20220327T010000
END:DAYLIGHT
BEGIN:STANDARD
TZOFFSETFROM:+0200
TZOFFSETTO:+0100
TZNAME:CET
DTSTART:20221030T010000
END:STANDARD
BEGIN:DAYLIGHT
TZOFFSETFROM:+0100
TZOFFSETTO:+0200
TZNAME:CEST
DTSTART:20230326T010000
END:DAYLIGHT
BEGIN:STANDARD
TZOFFSETFROM:+0200
TZOFFSETTO:+0100
TZNAME:CET
DTSTART:20231029T010000
END:STANDARD
BEGIN:DAYLIGHT
TZOFFSETFROM:+0100
TZOFFSETTO:+0200
TZNAME:CEST
DTSTART:20240331T010000
END:DAYLIGHT
BEGIN:STANDARD
TZOFFSETFROM:+0200
TZOFFSETTO:+0100
TZNAME:CET
DTSTART:20241027T010000
END:STANDARD
END:VTIMEZONE
BEGIN:VEVENT
DTSTART;TZID=Europe/Amsterdam:20231223T170000
DTEND;TZID=Europe/Amsterdam:20231223T190000
DTSTAMP:20260422T041559
CREATED:20231113T132952Z
LAST-MODIFIED:20231113T132952Z
UID:10004033-1703350800-1703358000@pknmm.nl
SUMMARY:Kerstlichtjestocht Maarsbergen
DESCRIPTION:Kerstlichtjestocht Maarsbergen \nDe Dorpskerk in Maarsbergen nodigt je op 23 december uit om de kerstsfeer als nooit tevoren te ervaren tijdens de jaarlijkse kerstlichtjestocht. Het is een betoverend schouwspel waarin de dorpsstraten oplichten met duizenden sprankelende lichtjes en o.a. het paleis van koning Herodes en een levende kerststal te bewonderen zijn. Met een echte kameel\, ezels en een puzzeltocht voor kinderen is deze lichtjestocht leuk voor jong en oud. Tussen 17:00 en 19:00 uur kun je vertrekken vanaf de school De Merseberch (Van Beuninglaan 28a). Deze wandeltocht duurt ongeveer 45 minuten en kan worden afgesloten met live muziek en een hapje en een drankje. Het is een evenement dat je niet wilt missen\, een prachtige start van de kerstdagen! \nKijk op lichtjestochtmaarsbergen.nl of scan de QR-code voor meer informatie. Wil je ook helpen? We kunnen altijd enthousiaste vrijwilligers gebruiken die willen helpen opbouwen\, engel willen zijn\, foto’s maken en nog veel meer leuke taken!
URL:https://pknmm.nl/activiteit/kerstlichtjestocht-maarsbergen/
LOCATION:Merseberch school Maarsbergen
END:VEVENT
END:VCALENDAR