BEGIN:VCALENDAR
VERSION:2.0
PRODID:-//Protestantse Gemeente Maarn-Maarsbergen - ECPv6.15.12.2//NONSGML v1.0//EN
CALSCALE:GREGORIAN
METHOD:PUBLISH
X-WR-CALNAME:Protestantse Gemeente Maarn-Maarsbergen
X-ORIGINAL-URL:https://pknmm.nl
X-WR-CALDESC:Evenementen voor Protestantse Gemeente Maarn-Maarsbergen
REFRESH-INTERVAL;VALUE=DURATION:PT1H
X-Robots-Tag:noindex
X-PUBLISHED-TTL:PT1H
BEGIN:VTIMEZONE
TZID:Europe/Amsterdam
BEGIN:DAYLIGHT
TZOFFSETFROM:+0100
TZOFFSETTO:+0200
TZNAME:CEST
DTSTART:20220327T010000
END:DAYLIGHT
BEGIN:STANDARD
TZOFFSETFROM:+0200
TZOFFSETTO:+0100
TZNAME:CET
DTSTART:20221030T010000
END:STANDARD
BEGIN:DAYLIGHT
TZOFFSETFROM:+0100
TZOFFSETTO:+0200
TZNAME:CEST
DTSTART:20230326T010000
END:DAYLIGHT
BEGIN:STANDARD
TZOFFSETFROM:+0200
TZOFFSETTO:+0100
TZNAME:CET
DTSTART:20231029T010000
END:STANDARD
BEGIN:DAYLIGHT
TZOFFSETFROM:+0100
TZOFFSETTO:+0200
TZNAME:CEST
DTSTART:20240331T010000
END:DAYLIGHT
BEGIN:STANDARD
TZOFFSETFROM:+0200
TZOFFSETTO:+0100
TZNAME:CET
DTSTART:20241027T010000
END:STANDARD
END:VTIMEZONE
BEGIN:VEVENT
DTSTART;TZID=Europe/Amsterdam:20231214T200000
DTEND;TZID=Europe/Amsterdam:20231214T220000
DTSTAMP:20260419T143147
CREATED:20231209T154308Z
LAST-MODIFIED:20231210T082121Z
UID:10004052-1702584000-1702591200@pknmm.nl
SUMMARY:Kerstkunstlezing in de Maartenskerk
DESCRIPTION:Kerstkunstlezing in de  Maartenskerk in Doorn\nKunsthistoricus Barry Heinrichs toont ons de ontwikkeling in de beeldende kunst van het kerstverhaal door de eeuwen heen. Van de vaak in opdracht van de kerk geschilderde Heilige familie met Jozef\, Maria en het Christuskind\, tot de hedendaagse verbeelding van Christus’ geboorte in een moderne en soms alledaagse setting. \n\n\nDe entree is €6\,-. Actuele informatie over deze en andere O#V activiteiten vindt u op de website www.protestantsegemeentedoorn.nl. \n 
URL:https://pknmm.nl/activiteit/kerstkunstlezing-maartenskerk-doorn/
LOCATION:Maartenskerk Doorn\, Kerkplein 1\, Doorn\, 3941 HV\, Nederland
END:VEVENT
BEGIN:VEVENT
DTSTART;TZID=Europe/Amsterdam:20231103T200000
DTEND;TZID=Europe/Amsterdam:20231103T220000
DTSTAMP:20260419T143147
CREATED:20231031T094014Z
LAST-MODIFIED:20231031T095727Z
UID:10004014-1699041600-1699048800@pknmm.nl
SUMMARY:Mantelzorgconcert | Maartenskerk\, Doorn
DESCRIPTION:Op 3 november kun je in de Maartenskerk in Doorn\, eventueel samen met degene voor wie je zorgt\, familie of andere concertliefhebbers genieten van een prachtig klassiek concert van het Autunno Ensemble. Dit concert wordt georganiseerd in het kader van de Week van de Mantelzorg door Stichting Sociale Dorpsteams\, de Bibliotheek Z-O-U-T en het Autunno Ensemble.
URL:https://pknmm.nl/activiteit/mantelzorgconcert-maartenskerk-doorn/
LOCATION:Maartenskerk Doorn\, Kerkplein 1\, Doorn\, 3941 HV\, Nederland
END:VEVENT
END:VCALENDAR