BEGIN:VCALENDAR
VERSION:2.0
PRODID:-//Protestantse Gemeente Maarn-Maarsbergen - ECPv6.15.12.2//NONSGML v1.0//EN
CALSCALE:GREGORIAN
METHOD:PUBLISH
X-WR-CALNAME:Protestantse Gemeente Maarn-Maarsbergen
X-ORIGINAL-URL:https://pknmm.nl
X-WR-CALDESC:Evenementen voor Protestantse Gemeente Maarn-Maarsbergen
REFRESH-INTERVAL;VALUE=DURATION:PT1H
X-Robots-Tag:noindex
X-PUBLISHED-TTL:PT1H
BEGIN:VTIMEZONE
TZID:Europe/Amsterdam
BEGIN:DAYLIGHT
TZOFFSETFROM:+0100
TZOFFSETTO:+0200
TZNAME:CEST
DTSTART:20250330T010000
END:DAYLIGHT
BEGIN:STANDARD
TZOFFSETFROM:+0200
TZOFFSETTO:+0100
TZNAME:CET
DTSTART:20251026T010000
END:STANDARD
BEGIN:DAYLIGHT
TZOFFSETFROM:+0100
TZOFFSETTO:+0200
TZNAME:CEST
DTSTART:20260329T010000
END:DAYLIGHT
BEGIN:STANDARD
TZOFFSETFROM:+0200
TZOFFSETTO:+0100
TZNAME:CET
DTSTART:20261025T010000
END:STANDARD
BEGIN:DAYLIGHT
TZOFFSETFROM:+0100
TZOFFSETTO:+0200
TZNAME:CEST
DTSTART:20270328T010000
END:DAYLIGHT
BEGIN:STANDARD
TZOFFSETFROM:+0200
TZOFFSETTO:+0100
TZNAME:CET
DTSTART:20271031T010000
END:STANDARD
END:VTIMEZONE
BEGIN:VEVENT
DTSTART;TZID=Europe/Amsterdam:20260508T143000
DTEND;TZID=Europe/Amsterdam:20260508T160000
DTSTAMP:20260424T143551
CREATED:20250716T200650Z
LAST-MODIFIED:20250716T204804Z
UID:10005439-1778250600-1778256000@pknmm.nl
SUMMARY:Samen mediteren in de Ontmoetingskapel
DESCRIPTION:Een nieuw seizoen om samen in stilte te mediteren.De meditatiegroep komt één middag per maand bijeen in de Ontmoetingskapel. Het is een open groep; deelnemers zijn zowel mensen die reeds jaren mediteren\, als mensen die benieuwd zijn geworden naar “stilte-meditatie” en dit “zitten”voor het eerst ervaren. \nDe meditatie wordt steeds ingeleid met het richten van de aandacht op lichaamshouding en ademhaling. Wij mediteren in stilte zowel zittend (zazen) als lopend (kinhin). Wij zitten op stoelen. \nInspiratie vinden wij o.a. bij het Zen-boeddhisme en bij de Christelijke mystici.“Wanneer je de stilte ingaat leer je voorbij te gaan aan de vorm\, je bewustzijn wordt open van leegte.” \n			\n			\n				\n				\n				\n				\n			\n				\n				\n				\n				\n				\n				\n				\n				\n				\n				\n				Begeleiding: Elizabeth de BruinData:              vrijdag 19 sept.\, 10 okt.\, 14 nov.\, 12 dec. 2025                       9 jan.\, 13 febr.\, 13 mrt.\, 10 apr.\, 8 mei\, 12 juni 2026Tijd:              14.30 uur tot 16.00 uurLocatie:        Ontmoetingskapel\,  Kapelweg 45  MaarnOpgave:        debruinelizabeth@gmail.com   tel. 0343444380
URL:https://pknmm.nl/activiteit/samen-mediteren-in-de-ontmoetingskapel-3/2026-05-08/
LOCATION:Ontm.kapel  Kapelweg \, Maarn\, Dorpskerk\, Maarsbergen
CATEGORIES:Samen mediteren
END:VEVENT
BEGIN:VEVENT
DTSTART;TZID=Europe/Amsterdam:20260612T143000
DTEND;TZID=Europe/Amsterdam:20260612T160000
DTSTAMP:20260424T143552
CREATED:20250716T200650Z
LAST-MODIFIED:20250716T204804Z
UID:10005440-1781274600-1781280000@pknmm.nl
SUMMARY:Samen mediteren in de Ontmoetingskapel
DESCRIPTION:Een nieuw seizoen om samen in stilte te mediteren.De meditatiegroep komt één middag per maand bijeen in de Ontmoetingskapel. Het is een open groep; deelnemers zijn zowel mensen die reeds jaren mediteren\, als mensen die benieuwd zijn geworden naar “stilte-meditatie” en dit “zitten”voor het eerst ervaren. \nDe meditatie wordt steeds ingeleid met het richten van de aandacht op lichaamshouding en ademhaling. Wij mediteren in stilte zowel zittend (zazen) als lopend (kinhin). Wij zitten op stoelen. \nInspiratie vinden wij o.a. bij het Zen-boeddhisme en bij de Christelijke mystici.“Wanneer je de stilte ingaat leer je voorbij te gaan aan de vorm\, je bewustzijn wordt open van leegte.” \n			\n			\n				\n				\n				\n				\n			\n				\n				\n				\n				\n				\n				\n				\n				\n				\n				\n				Begeleiding: Elizabeth de BruinData:              vrijdag 19 sept.\, 10 okt.\, 14 nov.\, 12 dec. 2025                       9 jan.\, 13 febr.\, 13 mrt.\, 10 apr.\, 8 mei\, 12 juni 2026Tijd:              14.30 uur tot 16.00 uurLocatie:        Ontmoetingskapel\,  Kapelweg 45  MaarnOpgave:        debruinelizabeth@gmail.com   tel. 0343444380
URL:https://pknmm.nl/activiteit/samen-mediteren-in-de-ontmoetingskapel-3/2026-06-12/
LOCATION:Ontm.kapel  Kapelweg \, Maarn\, Dorpskerk\, Maarsbergen
CATEGORIES:Samen mediteren
END:VEVENT
END:VCALENDAR