BEGIN:VCALENDAR
VERSION:2.0
PRODID:-//Protestantse Gemeente Maarn-Maarsbergen - ECPv6.15.12.2//NONSGML v1.0//EN
CALSCALE:GREGORIAN
METHOD:PUBLISH
X-ORIGINAL-URL:https://pknmm.nl
X-WR-CALDESC:Evenementen voor Protestantse Gemeente Maarn-Maarsbergen
REFRESH-INTERVAL;VALUE=DURATION:PT1H
X-Robots-Tag:noindex
X-PUBLISHED-TTL:PT1H
BEGIN:VTIMEZONE
TZID:Europe/Amsterdam
BEGIN:DAYLIGHT
TZOFFSETFROM:+0100
TZOFFSETTO:+0200
TZNAME:CEST
DTSTART:20270328T010000
END:DAYLIGHT
BEGIN:STANDARD
TZOFFSETFROM:+0200
TZOFFSETTO:+0100
TZNAME:CET
DTSTART:20271031T010000
END:STANDARD
BEGIN:DAYLIGHT
TZOFFSETFROM:+0100
TZOFFSETTO:+0200
TZNAME:CEST
DTSTART:20280326T010000
END:DAYLIGHT
BEGIN:STANDARD
TZOFFSETFROM:+0200
TZOFFSETTO:+0100
TZNAME:CET
DTSTART:20281029T010000
END:STANDARD
BEGIN:DAYLIGHT
TZOFFSETFROM:+0100
TZOFFSETTO:+0200
TZNAME:CEST
DTSTART:20290325T010000
END:DAYLIGHT
BEGIN:STANDARD
TZOFFSETFROM:+0200
TZOFFSETTO:+0100
TZNAME:CET
DTSTART:20291028T010000
END:STANDARD
BEGIN:DAYLIGHT
TZOFFSETFROM:+0100
TZOFFSETTO:+0200
TZNAME:CEST
DTSTART:20300331T010000
END:DAYLIGHT
BEGIN:STANDARD
TZOFFSETFROM:+0200
TZOFFSETTO:+0100
TZNAME:CET
DTSTART:20301027T010000
END:STANDARD
END:VTIMEZONE
BEGIN:VEVENT
DTSTART;TZID=Europe/Amsterdam:20281220T100000
DTEND;TZID=Europe/Amsterdam:20281220T113000
DTSTAMP:20260426T062933
CREATED:20250109T172113Z
LAST-MODIFIED:20250109T173835Z
UID:10005165-1860919200-1860924600@pknmm.nl
SUMMARY:Koffieochtend in 't Gebouwtje bij de Dorpskerk
DESCRIPTION:Iedere woensdag is er in ’t Gebouwtje bij de Dorpskerk aan de Woudenbergseweg 52 de mogelijkheid anderen te ontmoeten en een lekker kopje koffie of thee te drinken. Vanaf 10.00 uur staat de koffie klaar! Iedereen uit Maarsbergen en omgeving is van harte welkom van 10.00 tot 11.30 uur. Voor vragen kunt u contact opnemen met Nel van Wolfswinkel: 06-15181496
URL:https://pknmm.nl/activiteit/8892/2028-12-20/
LOCATION:Gebouwtje bij Dorpskerk
CATEGORIES:Koffie Ochtend
END:VEVENT
BEGIN:VEVENT
DTSTART;TZID=Europe/Amsterdam:20281221T100000
DTEND;TZID=Europe/Amsterdam:20281221T113000
DTSTAMP:20260426T062933
CREATED:20260330T122702Z
LAST-MODIFIED:20260330T123223Z
UID:10005864-1861005600-1861011000@pknmm.nl
SUMMARY:koffiemorgen in de Ontmoetingskapel
DESCRIPTION:Iedere donderdag is er in de Ontmoetingskapel de mogelijkheid anderen te ontmoeten en een lekker kopje koffie of thee te drinken. De gastvrouwen hebben vanaf 10.00 uur de koffie klaar! Iedereen is welkom\, ongeacht leeftijd. Vragen? Betty de Jong\, 033-2580830\, bettydejong@gmail.com 
URL:https://pknmm.nl/activiteit/koffiemorgen-in-de-ontmoetingskapel/2028-12-21/
LOCATION:Ontmoetingskapel\, Kapelweg 45\, Maarn
END:VEVENT
BEGIN:VEVENT
DTSTART;TZID=Europe/Amsterdam:20281227T100000
DTEND;TZID=Europe/Amsterdam:20281227T113000
DTSTAMP:20260426T062933
CREATED:20250109T172113Z
LAST-MODIFIED:20250109T173835Z
UID:10005166-1861524000-1861529400@pknmm.nl
SUMMARY:Koffieochtend in 't Gebouwtje bij de Dorpskerk
DESCRIPTION:Iedere woensdag is er in ’t Gebouwtje bij de Dorpskerk aan de Woudenbergseweg 52 de mogelijkheid anderen te ontmoeten en een lekker kopje koffie of thee te drinken. Vanaf 10.00 uur staat de koffie klaar! Iedereen uit Maarsbergen en omgeving is van harte welkom van 10.00 tot 11.30 uur. Voor vragen kunt u contact opnemen met Nel van Wolfswinkel: 06-15181496
URL:https://pknmm.nl/activiteit/8892/2028-12-27/
LOCATION:Gebouwtje bij Dorpskerk
CATEGORIES:Koffie Ochtend
END:VEVENT
BEGIN:VEVENT
DTSTART;TZID=Europe/Amsterdam:20281228T100000
DTEND;TZID=Europe/Amsterdam:20281228T113000
DTSTAMP:20260426T062933
CREATED:20260330T122702Z
LAST-MODIFIED:20260330T123223Z
UID:10005865-1861610400-1861615800@pknmm.nl
SUMMARY:koffiemorgen in de Ontmoetingskapel
DESCRIPTION:Iedere donderdag is er in de Ontmoetingskapel de mogelijkheid anderen te ontmoeten en een lekker kopje koffie of thee te drinken. De gastvrouwen hebben vanaf 10.00 uur de koffie klaar! Iedereen is welkom\, ongeacht leeftijd. Vragen? Betty de Jong\, 033-2580830\, bettydejong@gmail.com 
URL:https://pknmm.nl/activiteit/koffiemorgen-in-de-ontmoetingskapel/2028-12-28/
LOCATION:Ontmoetingskapel\, Kapelweg 45\, Maarn
END:VEVENT
BEGIN:VEVENT
DTSTART;TZID=Europe/Amsterdam:20290103T100000
DTEND;TZID=Europe/Amsterdam:20290103T113000
DTSTAMP:20260426T062933
CREATED:20250109T172113Z
LAST-MODIFIED:20250109T173835Z
UID:10005167-1862128800-1862134200@pknmm.nl
SUMMARY:Koffieochtend in 't Gebouwtje bij de Dorpskerk
DESCRIPTION:Iedere woensdag is er in ’t Gebouwtje bij de Dorpskerk aan de Woudenbergseweg 52 de mogelijkheid anderen te ontmoeten en een lekker kopje koffie of thee te drinken. Vanaf 10.00 uur staat de koffie klaar! Iedereen uit Maarsbergen en omgeving is van harte welkom van 10.00 tot 11.30 uur. Voor vragen kunt u contact opnemen met Nel van Wolfswinkel: 06-15181496
URL:https://pknmm.nl/activiteit/8892/2029-01-03/
LOCATION:Gebouwtje bij Dorpskerk
CATEGORIES:Koffie Ochtend
END:VEVENT
BEGIN:VEVENT
DTSTART;TZID=Europe/Amsterdam:20290104T100000
DTEND;TZID=Europe/Amsterdam:20290104T113000
DTSTAMP:20260426T062933
CREATED:20260330T122702Z
LAST-MODIFIED:20260330T123223Z
UID:10005866-1862215200-1862220600@pknmm.nl
SUMMARY:koffiemorgen in de Ontmoetingskapel
DESCRIPTION:Iedere donderdag is er in de Ontmoetingskapel de mogelijkheid anderen te ontmoeten en een lekker kopje koffie of thee te drinken. De gastvrouwen hebben vanaf 10.00 uur de koffie klaar! Iedereen is welkom\, ongeacht leeftijd. Vragen? Betty de Jong\, 033-2580830\, bettydejong@gmail.com 
URL:https://pknmm.nl/activiteit/koffiemorgen-in-de-ontmoetingskapel/2029-01-04/
LOCATION:Ontmoetingskapel\, Kapelweg 45\, Maarn
END:VEVENT
BEGIN:VEVENT
DTSTART;TZID=Europe/Amsterdam:20290110T100000
DTEND;TZID=Europe/Amsterdam:20290110T113000
DTSTAMP:20260426T062933
CREATED:20250109T172113Z
LAST-MODIFIED:20250109T173835Z
UID:10005168-1862733600-1862739000@pknmm.nl
SUMMARY:Koffieochtend in 't Gebouwtje bij de Dorpskerk
DESCRIPTION:Iedere woensdag is er in ’t Gebouwtje bij de Dorpskerk aan de Woudenbergseweg 52 de mogelijkheid anderen te ontmoeten en een lekker kopje koffie of thee te drinken. Vanaf 10.00 uur staat de koffie klaar! Iedereen uit Maarsbergen en omgeving is van harte welkom van 10.00 tot 11.30 uur. Voor vragen kunt u contact opnemen met Nel van Wolfswinkel: 06-15181496
URL:https://pknmm.nl/activiteit/8892/2029-01-10/
LOCATION:Gebouwtje bij Dorpskerk
CATEGORIES:Koffie Ochtend
END:VEVENT
BEGIN:VEVENT
DTSTART;TZID=Europe/Amsterdam:20290111T100000
DTEND;TZID=Europe/Amsterdam:20290111T113000
DTSTAMP:20260426T062933
CREATED:20260330T122702Z
LAST-MODIFIED:20260330T123223Z
UID:10005867-1862820000-1862825400@pknmm.nl
SUMMARY:koffiemorgen in de Ontmoetingskapel
DESCRIPTION:Iedere donderdag is er in de Ontmoetingskapel de mogelijkheid anderen te ontmoeten en een lekker kopje koffie of thee te drinken. De gastvrouwen hebben vanaf 10.00 uur de koffie klaar! Iedereen is welkom\, ongeacht leeftijd. Vragen? Betty de Jong\, 033-2580830\, bettydejong@gmail.com 
URL:https://pknmm.nl/activiteit/koffiemorgen-in-de-ontmoetingskapel/2029-01-11/
LOCATION:Ontmoetingskapel\, Kapelweg 45\, Maarn
END:VEVENT
BEGIN:VEVENT
DTSTART;TZID=Europe/Amsterdam:20290117T100000
DTEND;TZID=Europe/Amsterdam:20290117T113000
DTSTAMP:20260426T062933
CREATED:20250109T172113Z
LAST-MODIFIED:20250109T173835Z
UID:10005169-1863338400-1863343800@pknmm.nl
SUMMARY:Koffieochtend in 't Gebouwtje bij de Dorpskerk
DESCRIPTION:Iedere woensdag is er in ’t Gebouwtje bij de Dorpskerk aan de Woudenbergseweg 52 de mogelijkheid anderen te ontmoeten en een lekker kopje koffie of thee te drinken. Vanaf 10.00 uur staat de koffie klaar! Iedereen uit Maarsbergen en omgeving is van harte welkom van 10.00 tot 11.30 uur. Voor vragen kunt u contact opnemen met Nel van Wolfswinkel: 06-15181496
URL:https://pknmm.nl/activiteit/8892/2029-01-17/
LOCATION:Gebouwtje bij Dorpskerk
CATEGORIES:Koffie Ochtend
END:VEVENT
BEGIN:VEVENT
DTSTART;TZID=Europe/Amsterdam:20290118T100000
DTEND;TZID=Europe/Amsterdam:20290118T113000
DTSTAMP:20260426T062933
CREATED:20260330T122702Z
LAST-MODIFIED:20260330T123223Z
UID:10005868-1863424800-1863430200@pknmm.nl
SUMMARY:koffiemorgen in de Ontmoetingskapel
DESCRIPTION:Iedere donderdag is er in de Ontmoetingskapel de mogelijkheid anderen te ontmoeten en een lekker kopje koffie of thee te drinken. De gastvrouwen hebben vanaf 10.00 uur de koffie klaar! Iedereen is welkom\, ongeacht leeftijd. Vragen? Betty de Jong\, 033-2580830\, bettydejong@gmail.com 
URL:https://pknmm.nl/activiteit/koffiemorgen-in-de-ontmoetingskapel/2029-01-18/
LOCATION:Ontmoetingskapel\, Kapelweg 45\, Maarn
END:VEVENT
BEGIN:VEVENT
DTSTART;TZID=Europe/Amsterdam:20290120T093000
DTEND;TZID=Europe/Amsterdam:20290120T120000
DTSTAMP:20260426T062933
CREATED:20250613T090123Z
LAST-MODIFIED:20250613T091041Z
UID:10005397-1863595800-1863604800@pknmm.nl
SUMMARY:Repair café Ontmoetingskapel Maarn
DESCRIPTION:Het kan altijd gebeuren:\n\n\n​Een kledingstuk\, CD- of Dvd-speler\, grasmaaier\, stofzuiger\, lamp\, of speelgoed. Alles gaat een keer kapot. Geen nood\, kom met de kapotte spullen naar het Repaircafé in de Ontmoetingskapel in Maarn. \nTijdens een Repaircafé kunt u met hun kapotte spullen naar de  in Ontmoetingskapel aan de Kapelweg in Maarn komen. Deskundige vrijwilligers zullen daar proberen die spullen te repareren.​Onze reparatiediensten worden gratis aangeboden. Alleen als er vervangende onderdelen nodig zijn dienen de kosten daarvan ter plekke te worden afgerekend.Een vrijwillige bijdrage wordt echter zeer op prijs gesteld. \n\n\n\n\n\n			\n			\n				\n				\n				\n				\n			\n				\n				\n				\n				\n				\n				\n				\n				\n				\n				\n				De eerstvolgende data: iedere derde zaterdag van de maand. \n			\n			\n				\n				\n				\n				\n			\n				\n				\n				\n				\n				\n				\n				\n				\n				\n				\n				Het Repaircafé in Maarn is mede mogelijk door onze sponsoren:
URL:https://pknmm.nl/activiteit/repair-cafe-ontmoetingskapel-maarn-2/2029-01-20/
LOCATION:Ontmoetingskapel\, Kapelweg 45\, Maarn
CATEGORIES:Algemeen
END:VEVENT
BEGIN:VEVENT
DTSTART;TZID=Europe/Amsterdam:20290124T100000
DTEND;TZID=Europe/Amsterdam:20290124T113000
DTSTAMP:20260426T062933
CREATED:20250109T172113Z
LAST-MODIFIED:20250109T173835Z
UID:10005170-1863943200-1863948600@pknmm.nl
SUMMARY:Koffieochtend in 't Gebouwtje bij de Dorpskerk
DESCRIPTION:Iedere woensdag is er in ’t Gebouwtje bij de Dorpskerk aan de Woudenbergseweg 52 de mogelijkheid anderen te ontmoeten en een lekker kopje koffie of thee te drinken. Vanaf 10.00 uur staat de koffie klaar! Iedereen uit Maarsbergen en omgeving is van harte welkom van 10.00 tot 11.30 uur. Voor vragen kunt u contact opnemen met Nel van Wolfswinkel: 06-15181496
URL:https://pknmm.nl/activiteit/8892/2029-01-24/
LOCATION:Gebouwtje bij Dorpskerk
CATEGORIES:Koffie Ochtend
END:VEVENT
BEGIN:VEVENT
DTSTART;TZID=Europe/Amsterdam:20290125T100000
DTEND;TZID=Europe/Amsterdam:20290125T113000
DTSTAMP:20260426T062933
CREATED:20260330T122702Z
LAST-MODIFIED:20260330T123223Z
UID:10005869-1864029600-1864035000@pknmm.nl
SUMMARY:koffiemorgen in de Ontmoetingskapel
DESCRIPTION:Iedere donderdag is er in de Ontmoetingskapel de mogelijkheid anderen te ontmoeten en een lekker kopje koffie of thee te drinken. De gastvrouwen hebben vanaf 10.00 uur de koffie klaar! Iedereen is welkom\, ongeacht leeftijd. Vragen? Betty de Jong\, 033-2580830\, bettydejong@gmail.com 
URL:https://pknmm.nl/activiteit/koffiemorgen-in-de-ontmoetingskapel/2029-01-25/
LOCATION:Ontmoetingskapel\, Kapelweg 45\, Maarn
END:VEVENT
BEGIN:VEVENT
DTSTART;TZID=Europe/Amsterdam:20290131T100000
DTEND;TZID=Europe/Amsterdam:20290131T113000
DTSTAMP:20260426T062933
CREATED:20250109T172113Z
LAST-MODIFIED:20250109T173835Z
UID:10005171-1864548000-1864553400@pknmm.nl
SUMMARY:Koffieochtend in 't Gebouwtje bij de Dorpskerk
DESCRIPTION:Iedere woensdag is er in ’t Gebouwtje bij de Dorpskerk aan de Woudenbergseweg 52 de mogelijkheid anderen te ontmoeten en een lekker kopje koffie of thee te drinken. Vanaf 10.00 uur staat de koffie klaar! Iedereen uit Maarsbergen en omgeving is van harte welkom van 10.00 tot 11.30 uur. Voor vragen kunt u contact opnemen met Nel van Wolfswinkel: 06-15181496
URL:https://pknmm.nl/activiteit/8892/2029-01-31/
LOCATION:Gebouwtje bij Dorpskerk
CATEGORIES:Koffie Ochtend
END:VEVENT
BEGIN:VEVENT
DTSTART;TZID=Europe/Amsterdam:20290201T100000
DTEND;TZID=Europe/Amsterdam:20290201T113000
DTSTAMP:20260426T062933
CREATED:20260330T122702Z
LAST-MODIFIED:20260330T123223Z
UID:10005870-1864634400-1864639800@pknmm.nl
SUMMARY:koffiemorgen in de Ontmoetingskapel
DESCRIPTION:Iedere donderdag is er in de Ontmoetingskapel de mogelijkheid anderen te ontmoeten en een lekker kopje koffie of thee te drinken. De gastvrouwen hebben vanaf 10.00 uur de koffie klaar! Iedereen is welkom\, ongeacht leeftijd. Vragen? Betty de Jong\, 033-2580830\, bettydejong@gmail.com 
URL:https://pknmm.nl/activiteit/koffiemorgen-in-de-ontmoetingskapel/2029-02-01/
LOCATION:Ontmoetingskapel\, Kapelweg 45\, Maarn
END:VEVENT
BEGIN:VEVENT
DTSTART;TZID=Europe/Amsterdam:20290207T100000
DTEND;TZID=Europe/Amsterdam:20290207T113000
DTSTAMP:20260426T062933
CREATED:20250109T172113Z
LAST-MODIFIED:20250109T173835Z
UID:10005172-1865152800-1865158200@pknmm.nl
SUMMARY:Koffieochtend in 't Gebouwtje bij de Dorpskerk
DESCRIPTION:Iedere woensdag is er in ’t Gebouwtje bij de Dorpskerk aan de Woudenbergseweg 52 de mogelijkheid anderen te ontmoeten en een lekker kopje koffie of thee te drinken. Vanaf 10.00 uur staat de koffie klaar! Iedereen uit Maarsbergen en omgeving is van harte welkom van 10.00 tot 11.30 uur. Voor vragen kunt u contact opnemen met Nel van Wolfswinkel: 06-15181496
URL:https://pknmm.nl/activiteit/8892/2029-02-07/
LOCATION:Gebouwtje bij Dorpskerk
CATEGORIES:Koffie Ochtend
END:VEVENT
BEGIN:VEVENT
DTSTART;TZID=Europe/Amsterdam:20290208T100000
DTEND;TZID=Europe/Amsterdam:20290208T113000
DTSTAMP:20260426T062933
CREATED:20260330T122702Z
LAST-MODIFIED:20260330T123223Z
UID:10005871-1865239200-1865244600@pknmm.nl
SUMMARY:koffiemorgen in de Ontmoetingskapel
DESCRIPTION:Iedere donderdag is er in de Ontmoetingskapel de mogelijkheid anderen te ontmoeten en een lekker kopje koffie of thee te drinken. De gastvrouwen hebben vanaf 10.00 uur de koffie klaar! Iedereen is welkom\, ongeacht leeftijd. Vragen? Betty de Jong\, 033-2580830\, bettydejong@gmail.com 
URL:https://pknmm.nl/activiteit/koffiemorgen-in-de-ontmoetingskapel/2029-02-08/
LOCATION:Ontmoetingskapel\, Kapelweg 45\, Maarn
END:VEVENT
BEGIN:VEVENT
DTSTART;TZID=Europe/Amsterdam:20290214T100000
DTEND;TZID=Europe/Amsterdam:20290214T113000
DTSTAMP:20260426T062933
CREATED:20250109T172113Z
LAST-MODIFIED:20250109T173835Z
UID:10005173-1865757600-1865763000@pknmm.nl
SUMMARY:Koffieochtend in 't Gebouwtje bij de Dorpskerk
DESCRIPTION:Iedere woensdag is er in ’t Gebouwtje bij de Dorpskerk aan de Woudenbergseweg 52 de mogelijkheid anderen te ontmoeten en een lekker kopje koffie of thee te drinken. Vanaf 10.00 uur staat de koffie klaar! Iedereen uit Maarsbergen en omgeving is van harte welkom van 10.00 tot 11.30 uur. Voor vragen kunt u contact opnemen met Nel van Wolfswinkel: 06-15181496
URL:https://pknmm.nl/activiteit/8892/2029-02-14/
LOCATION:Gebouwtje bij Dorpskerk
CATEGORIES:Koffie Ochtend
END:VEVENT
BEGIN:VEVENT
DTSTART;TZID=Europe/Amsterdam:20290215T100000
DTEND;TZID=Europe/Amsterdam:20290215T113000
DTSTAMP:20260426T062933
CREATED:20260330T122702Z
LAST-MODIFIED:20260330T123223Z
UID:10005872-1865844000-1865849400@pknmm.nl
SUMMARY:koffiemorgen in de Ontmoetingskapel
DESCRIPTION:Iedere donderdag is er in de Ontmoetingskapel de mogelijkheid anderen te ontmoeten en een lekker kopje koffie of thee te drinken. De gastvrouwen hebben vanaf 10.00 uur de koffie klaar! Iedereen is welkom\, ongeacht leeftijd. Vragen? Betty de Jong\, 033-2580830\, bettydejong@gmail.com 
URL:https://pknmm.nl/activiteit/koffiemorgen-in-de-ontmoetingskapel/2029-02-15/
LOCATION:Ontmoetingskapel\, Kapelweg 45\, Maarn
END:VEVENT
BEGIN:VEVENT
DTSTART;TZID=Europe/Amsterdam:20290217T093000
DTEND;TZID=Europe/Amsterdam:20290217T120000
DTSTAMP:20260426T062933
CREATED:20250613T090123Z
LAST-MODIFIED:20250613T091041Z
UID:10005398-1866015000-1866024000@pknmm.nl
SUMMARY:Repair café Ontmoetingskapel Maarn
DESCRIPTION:Het kan altijd gebeuren:\n\n\n​Een kledingstuk\, CD- of Dvd-speler\, grasmaaier\, stofzuiger\, lamp\, of speelgoed. Alles gaat een keer kapot. Geen nood\, kom met de kapotte spullen naar het Repaircafé in de Ontmoetingskapel in Maarn. \nTijdens een Repaircafé kunt u met hun kapotte spullen naar de  in Ontmoetingskapel aan de Kapelweg in Maarn komen. Deskundige vrijwilligers zullen daar proberen die spullen te repareren.​Onze reparatiediensten worden gratis aangeboden. Alleen als er vervangende onderdelen nodig zijn dienen de kosten daarvan ter plekke te worden afgerekend.Een vrijwillige bijdrage wordt echter zeer op prijs gesteld. \n\n\n\n\n\n			\n			\n				\n				\n				\n				\n			\n				\n				\n				\n				\n				\n				\n				\n				\n				\n				\n				De eerstvolgende data: iedere derde zaterdag van de maand. \n			\n			\n				\n				\n				\n				\n			\n				\n				\n				\n				\n				\n				\n				\n				\n				\n				\n				Het Repaircafé in Maarn is mede mogelijk door onze sponsoren:
URL:https://pknmm.nl/activiteit/repair-cafe-ontmoetingskapel-maarn-2/2029-02-17/
LOCATION:Ontmoetingskapel\, Kapelweg 45\, Maarn
CATEGORIES:Algemeen
END:VEVENT
BEGIN:VEVENT
DTSTART;TZID=Europe/Amsterdam:20290221T100000
DTEND;TZID=Europe/Amsterdam:20290221T113000
DTSTAMP:20260426T062933
CREATED:20250109T172113Z
LAST-MODIFIED:20250109T173835Z
UID:10005174-1866362400-1866367800@pknmm.nl
SUMMARY:Koffieochtend in 't Gebouwtje bij de Dorpskerk
DESCRIPTION:Iedere woensdag is er in ’t Gebouwtje bij de Dorpskerk aan de Woudenbergseweg 52 de mogelijkheid anderen te ontmoeten en een lekker kopje koffie of thee te drinken. Vanaf 10.00 uur staat de koffie klaar! Iedereen uit Maarsbergen en omgeving is van harte welkom van 10.00 tot 11.30 uur. Voor vragen kunt u contact opnemen met Nel van Wolfswinkel: 06-15181496
URL:https://pknmm.nl/activiteit/8892/2029-02-21/
LOCATION:Gebouwtje bij Dorpskerk
CATEGORIES:Koffie Ochtend
END:VEVENT
BEGIN:VEVENT
DTSTART;TZID=Europe/Amsterdam:20290222T100000
DTEND;TZID=Europe/Amsterdam:20290222T113000
DTSTAMP:20260426T062933
CREATED:20260330T122702Z
LAST-MODIFIED:20260330T123223Z
UID:10005873-1866448800-1866454200@pknmm.nl
SUMMARY:koffiemorgen in de Ontmoetingskapel
DESCRIPTION:Iedere donderdag is er in de Ontmoetingskapel de mogelijkheid anderen te ontmoeten en een lekker kopje koffie of thee te drinken. De gastvrouwen hebben vanaf 10.00 uur de koffie klaar! Iedereen is welkom\, ongeacht leeftijd. Vragen? Betty de Jong\, 033-2580830\, bettydejong@gmail.com 
URL:https://pknmm.nl/activiteit/koffiemorgen-in-de-ontmoetingskapel/2029-02-22/
LOCATION:Ontmoetingskapel\, Kapelweg 45\, Maarn
END:VEVENT
BEGIN:VEVENT
DTSTART;TZID=Europe/Amsterdam:20290228T100000
DTEND;TZID=Europe/Amsterdam:20290228T113000
DTSTAMP:20260426T062933
CREATED:20250109T172113Z
LAST-MODIFIED:20250109T173835Z
UID:10005175-1866967200-1866972600@pknmm.nl
SUMMARY:Koffieochtend in 't Gebouwtje bij de Dorpskerk
DESCRIPTION:Iedere woensdag is er in ’t Gebouwtje bij de Dorpskerk aan de Woudenbergseweg 52 de mogelijkheid anderen te ontmoeten en een lekker kopje koffie of thee te drinken. Vanaf 10.00 uur staat de koffie klaar! Iedereen uit Maarsbergen en omgeving is van harte welkom van 10.00 tot 11.30 uur. Voor vragen kunt u contact opnemen met Nel van Wolfswinkel: 06-15181496
URL:https://pknmm.nl/activiteit/8892/2029-02-28/
LOCATION:Gebouwtje bij Dorpskerk
CATEGORIES:Koffie Ochtend
END:VEVENT
BEGIN:VEVENT
DTSTART;TZID=Europe/Amsterdam:20290301T100000
DTEND;TZID=Europe/Amsterdam:20290301T113000
DTSTAMP:20260426T062933
CREATED:20260330T122702Z
LAST-MODIFIED:20260330T123223Z
UID:10005874-1867053600-1867059000@pknmm.nl
SUMMARY:koffiemorgen in de Ontmoetingskapel
DESCRIPTION:Iedere donderdag is er in de Ontmoetingskapel de mogelijkheid anderen te ontmoeten en een lekker kopje koffie of thee te drinken. De gastvrouwen hebben vanaf 10.00 uur de koffie klaar! Iedereen is welkom\, ongeacht leeftijd. Vragen? Betty de Jong\, 033-2580830\, bettydejong@gmail.com 
URL:https://pknmm.nl/activiteit/koffiemorgen-in-de-ontmoetingskapel/2029-03-01/
LOCATION:Ontmoetingskapel\, Kapelweg 45\, Maarn
END:VEVENT
BEGIN:VEVENT
DTSTART;TZID=Europe/Amsterdam:20290307T100000
DTEND;TZID=Europe/Amsterdam:20290307T113000
DTSTAMP:20260426T062933
CREATED:20250109T172113Z
LAST-MODIFIED:20250109T173835Z
UID:10005176-1867572000-1867577400@pknmm.nl
SUMMARY:Koffieochtend in 't Gebouwtje bij de Dorpskerk
DESCRIPTION:Iedere woensdag is er in ’t Gebouwtje bij de Dorpskerk aan de Woudenbergseweg 52 de mogelijkheid anderen te ontmoeten en een lekker kopje koffie of thee te drinken. Vanaf 10.00 uur staat de koffie klaar! Iedereen uit Maarsbergen en omgeving is van harte welkom van 10.00 tot 11.30 uur. Voor vragen kunt u contact opnemen met Nel van Wolfswinkel: 06-15181496
URL:https://pknmm.nl/activiteit/8892/2029-03-07/
LOCATION:Gebouwtje bij Dorpskerk
CATEGORIES:Koffie Ochtend
END:VEVENT
BEGIN:VEVENT
DTSTART;TZID=Europe/Amsterdam:20290308T100000
DTEND;TZID=Europe/Amsterdam:20290308T113000
DTSTAMP:20260426T062933
CREATED:20260330T122702Z
LAST-MODIFIED:20260330T123223Z
UID:10005875-1867658400-1867663800@pknmm.nl
SUMMARY:koffiemorgen in de Ontmoetingskapel
DESCRIPTION:Iedere donderdag is er in de Ontmoetingskapel de mogelijkheid anderen te ontmoeten en een lekker kopje koffie of thee te drinken. De gastvrouwen hebben vanaf 10.00 uur de koffie klaar! Iedereen is welkom\, ongeacht leeftijd. Vragen? Betty de Jong\, 033-2580830\, bettydejong@gmail.com 
URL:https://pknmm.nl/activiteit/koffiemorgen-in-de-ontmoetingskapel/2029-03-08/
LOCATION:Ontmoetingskapel\, Kapelweg 45\, Maarn
END:VEVENT
BEGIN:VEVENT
DTSTART;TZID=Europe/Amsterdam:20290314T100000
DTEND;TZID=Europe/Amsterdam:20290314T113000
DTSTAMP:20260426T062933
CREATED:20250109T172113Z
LAST-MODIFIED:20250109T173835Z
UID:10005177-1868176800-1868182200@pknmm.nl
SUMMARY:Koffieochtend in 't Gebouwtje bij de Dorpskerk
DESCRIPTION:Iedere woensdag is er in ’t Gebouwtje bij de Dorpskerk aan de Woudenbergseweg 52 de mogelijkheid anderen te ontmoeten en een lekker kopje koffie of thee te drinken. Vanaf 10.00 uur staat de koffie klaar! Iedereen uit Maarsbergen en omgeving is van harte welkom van 10.00 tot 11.30 uur. Voor vragen kunt u contact opnemen met Nel van Wolfswinkel: 06-15181496
URL:https://pknmm.nl/activiteit/8892/2029-03-14/
LOCATION:Gebouwtje bij Dorpskerk
CATEGORIES:Koffie Ochtend
END:VEVENT
BEGIN:VEVENT
DTSTART;TZID=Europe/Amsterdam:20290315T100000
DTEND;TZID=Europe/Amsterdam:20290315T113000
DTSTAMP:20260426T062933
CREATED:20260330T122702Z
LAST-MODIFIED:20260330T123223Z
UID:10005876-1868263200-1868268600@pknmm.nl
SUMMARY:koffiemorgen in de Ontmoetingskapel
DESCRIPTION:Iedere donderdag is er in de Ontmoetingskapel de mogelijkheid anderen te ontmoeten en een lekker kopje koffie of thee te drinken. De gastvrouwen hebben vanaf 10.00 uur de koffie klaar! Iedereen is welkom\, ongeacht leeftijd. Vragen? Betty de Jong\, 033-2580830\, bettydejong@gmail.com 
URL:https://pknmm.nl/activiteit/koffiemorgen-in-de-ontmoetingskapel/2029-03-15/
LOCATION:Ontmoetingskapel\, Kapelweg 45\, Maarn
END:VEVENT
BEGIN:VEVENT
DTSTART;TZID=Europe/Amsterdam:20290317T093000
DTEND;TZID=Europe/Amsterdam:20290317T120000
DTSTAMP:20260426T062933
CREATED:20250613T090123Z
LAST-MODIFIED:20250613T091041Z
UID:10005399-1868434200-1868443200@pknmm.nl
SUMMARY:Repair café Ontmoetingskapel Maarn
DESCRIPTION:Het kan altijd gebeuren:\n\n\n​Een kledingstuk\, CD- of Dvd-speler\, grasmaaier\, stofzuiger\, lamp\, of speelgoed. Alles gaat een keer kapot. Geen nood\, kom met de kapotte spullen naar het Repaircafé in de Ontmoetingskapel in Maarn. \nTijdens een Repaircafé kunt u met hun kapotte spullen naar de  in Ontmoetingskapel aan de Kapelweg in Maarn komen. Deskundige vrijwilligers zullen daar proberen die spullen te repareren.​Onze reparatiediensten worden gratis aangeboden. Alleen als er vervangende onderdelen nodig zijn dienen de kosten daarvan ter plekke te worden afgerekend.Een vrijwillige bijdrage wordt echter zeer op prijs gesteld. \n\n\n\n\n\n			\n			\n				\n				\n				\n				\n			\n				\n				\n				\n				\n				\n				\n				\n				\n				\n				\n				De eerstvolgende data: iedere derde zaterdag van de maand. \n			\n			\n				\n				\n				\n				\n			\n				\n				\n				\n				\n				\n				\n				\n				\n				\n				\n				Het Repaircafé in Maarn is mede mogelijk door onze sponsoren:
URL:https://pknmm.nl/activiteit/repair-cafe-ontmoetingskapel-maarn-2/2029-03-17/
LOCATION:Ontmoetingskapel\, Kapelweg 45\, Maarn
CATEGORIES:Algemeen
END:VEVENT
BEGIN:VEVENT
DTSTART;TZID=Europe/Amsterdam:20290321T100000
DTEND;TZID=Europe/Amsterdam:20290321T113000
DTSTAMP:20260426T062933
CREATED:20250109T172113Z
LAST-MODIFIED:20250109T173835Z
UID:10005178-1868781600-1868787000@pknmm.nl
SUMMARY:Koffieochtend in 't Gebouwtje bij de Dorpskerk
DESCRIPTION:Iedere woensdag is er in ’t Gebouwtje bij de Dorpskerk aan de Woudenbergseweg 52 de mogelijkheid anderen te ontmoeten en een lekker kopje koffie of thee te drinken. Vanaf 10.00 uur staat de koffie klaar! Iedereen uit Maarsbergen en omgeving is van harte welkom van 10.00 tot 11.30 uur. Voor vragen kunt u contact opnemen met Nel van Wolfswinkel: 06-15181496
URL:https://pknmm.nl/activiteit/8892/2029-03-21/
LOCATION:Gebouwtje bij Dorpskerk
CATEGORIES:Koffie Ochtend
END:VEVENT
END:VCALENDAR