BEGIN:VCALENDAR
VERSION:2.0
PRODID:-//Protestantse Gemeente Maarn-Maarsbergen - ECPv6.15.12.2//NONSGML v1.0//EN
CALSCALE:GREGORIAN
METHOD:PUBLISH
X-WR-CALNAME:Protestantse Gemeente Maarn-Maarsbergen
X-ORIGINAL-URL:https://pknmm.nl
X-WR-CALDESC:Evenementen voor Protestantse Gemeente Maarn-Maarsbergen
REFRESH-INTERVAL;VALUE=DURATION:PT1H
X-Robots-Tag:noindex
X-PUBLISHED-TTL:PT1H
BEGIN:VTIMEZONE
TZID:Europe/Amsterdam
BEGIN:DAYLIGHT
TZOFFSETFROM:+0100
TZOFFSETTO:+0200
TZNAME:CEST
DTSTART:20270328T010000
END:DAYLIGHT
BEGIN:STANDARD
TZOFFSETFROM:+0200
TZOFFSETTO:+0100
TZNAME:CET
DTSTART:20271031T010000
END:STANDARD
BEGIN:DAYLIGHT
TZOFFSETFROM:+0100
TZOFFSETTO:+0200
TZNAME:CEST
DTSTART:20280326T010000
END:DAYLIGHT
BEGIN:STANDARD
TZOFFSETFROM:+0200
TZOFFSETTO:+0100
TZNAME:CET
DTSTART:20281029T010000
END:STANDARD
BEGIN:DAYLIGHT
TZOFFSETFROM:+0100
TZOFFSETTO:+0200
TZNAME:CEST
DTSTART:20290325T010000
END:DAYLIGHT
BEGIN:STANDARD
TZOFFSETFROM:+0200
TZOFFSETTO:+0100
TZNAME:CET
DTSTART:20291028T010000
END:STANDARD
END:VTIMEZONE
BEGIN:VEVENT
DTSTART;TZID=Europe/Amsterdam:20280615T100000
DTEND;TZID=Europe/Amsterdam:20280615T113000
DTSTAMP:20260425T214133
CREATED:20260330T122702Z
LAST-MODIFIED:20260330T123223Z
UID:10005837-1844676000-1844681400@pknmm.nl
SUMMARY:koffiemorgen in de Ontmoetingskapel
DESCRIPTION:Iedere donderdag is er in de Ontmoetingskapel de mogelijkheid anderen te ontmoeten en een lekker kopje koffie of thee te drinken. De gastvrouwen hebben vanaf 10.00 uur de koffie klaar! Iedereen is welkom\, ongeacht leeftijd. Vragen? Betty de Jong\, 033-2580830\, bettydejong@gmail.com 
URL:https://pknmm.nl/activiteit/koffiemorgen-in-de-ontmoetingskapel/2028-06-15/
LOCATION:Ontmoetingskapel\, Kapelweg 45\, Maarn
END:VEVENT
BEGIN:VEVENT
DTSTART;TZID=Europe/Amsterdam:20280617T093000
DTEND;TZID=Europe/Amsterdam:20280617T120000
DTSTAMP:20260425T214133
CREATED:20250613T090123Z
LAST-MODIFIED:20250613T091041Z
UID:10005390-1844847000-1844856000@pknmm.nl
SUMMARY:Repair café Ontmoetingskapel Maarn
DESCRIPTION:Het kan altijd gebeuren:\n\n\n​Een kledingstuk\, CD- of Dvd-speler\, grasmaaier\, stofzuiger\, lamp\, of speelgoed. Alles gaat een keer kapot. Geen nood\, kom met de kapotte spullen naar het Repaircafé in de Ontmoetingskapel in Maarn. \nTijdens een Repaircafé kunt u met hun kapotte spullen naar de  in Ontmoetingskapel aan de Kapelweg in Maarn komen. Deskundige vrijwilligers zullen daar proberen die spullen te repareren.​Onze reparatiediensten worden gratis aangeboden. Alleen als er vervangende onderdelen nodig zijn dienen de kosten daarvan ter plekke te worden afgerekend.Een vrijwillige bijdrage wordt echter zeer op prijs gesteld. \n\n\n\n\n\n			\n			\n				\n				\n				\n				\n			\n				\n				\n				\n				\n				\n				\n				\n				\n				\n				\n				De eerstvolgende data: iedere derde zaterdag van de maand. \n			\n			\n				\n				\n				\n				\n			\n				\n				\n				\n				\n				\n				\n				\n				\n				\n				\n				Het Repaircafé in Maarn is mede mogelijk door onze sponsoren:
URL:https://pknmm.nl/activiteit/repair-cafe-ontmoetingskapel-maarn-2/2028-06-17/
LOCATION:Ontmoetingskapel\, Kapelweg 45\, Maarn
CATEGORIES:Algemeen
END:VEVENT
BEGIN:VEVENT
DTSTART;TZID=Europe/Amsterdam:20280621T100000
DTEND;TZID=Europe/Amsterdam:20280621T113000
DTSTAMP:20260425T214133
CREATED:20250109T172113Z
LAST-MODIFIED:20250109T173835Z
UID:10005139-1845194400-1845199800@pknmm.nl
SUMMARY:Koffieochtend in 't Gebouwtje bij de Dorpskerk
DESCRIPTION:Iedere woensdag is er in ’t Gebouwtje bij de Dorpskerk aan de Woudenbergseweg 52 de mogelijkheid anderen te ontmoeten en een lekker kopje koffie of thee te drinken. Vanaf 10.00 uur staat de koffie klaar! Iedereen uit Maarsbergen en omgeving is van harte welkom van 10.00 tot 11.30 uur. Voor vragen kunt u contact opnemen met Nel van Wolfswinkel: 06-15181496
URL:https://pknmm.nl/activiteit/8892/2028-06-21/
LOCATION:Gebouwtje bij Dorpskerk
CATEGORIES:Koffie Ochtend
END:VEVENT
BEGIN:VEVENT
DTSTART;TZID=Europe/Amsterdam:20280622T100000
DTEND;TZID=Europe/Amsterdam:20280622T113000
DTSTAMP:20260425T214133
CREATED:20260330T122702Z
LAST-MODIFIED:20260330T123223Z
UID:10005838-1845280800-1845286200@pknmm.nl
SUMMARY:koffiemorgen in de Ontmoetingskapel
DESCRIPTION:Iedere donderdag is er in de Ontmoetingskapel de mogelijkheid anderen te ontmoeten en een lekker kopje koffie of thee te drinken. De gastvrouwen hebben vanaf 10.00 uur de koffie klaar! Iedereen is welkom\, ongeacht leeftijd. Vragen? Betty de Jong\, 033-2580830\, bettydejong@gmail.com 
URL:https://pknmm.nl/activiteit/koffiemorgen-in-de-ontmoetingskapel/2028-06-22/
LOCATION:Ontmoetingskapel\, Kapelweg 45\, Maarn
END:VEVENT
BEGIN:VEVENT
DTSTART;TZID=Europe/Amsterdam:20280628T100000
DTEND;TZID=Europe/Amsterdam:20280628T113000
DTSTAMP:20260425T214133
CREATED:20250109T172113Z
LAST-MODIFIED:20250109T173835Z
UID:10005140-1845799200-1845804600@pknmm.nl
SUMMARY:Koffieochtend in 't Gebouwtje bij de Dorpskerk
DESCRIPTION:Iedere woensdag is er in ’t Gebouwtje bij de Dorpskerk aan de Woudenbergseweg 52 de mogelijkheid anderen te ontmoeten en een lekker kopje koffie of thee te drinken. Vanaf 10.00 uur staat de koffie klaar! Iedereen uit Maarsbergen en omgeving is van harte welkom van 10.00 tot 11.30 uur. Voor vragen kunt u contact opnemen met Nel van Wolfswinkel: 06-15181496
URL:https://pknmm.nl/activiteit/8892/2028-06-28/
LOCATION:Gebouwtje bij Dorpskerk
CATEGORIES:Koffie Ochtend
END:VEVENT
BEGIN:VEVENT
DTSTART;TZID=Europe/Amsterdam:20280629T100000
DTEND;TZID=Europe/Amsterdam:20280629T113000
DTSTAMP:20260425T214133
CREATED:20260330T122702Z
LAST-MODIFIED:20260330T123223Z
UID:10005839-1845885600-1845891000@pknmm.nl
SUMMARY:koffiemorgen in de Ontmoetingskapel
DESCRIPTION:Iedere donderdag is er in de Ontmoetingskapel de mogelijkheid anderen te ontmoeten en een lekker kopje koffie of thee te drinken. De gastvrouwen hebben vanaf 10.00 uur de koffie klaar! Iedereen is welkom\, ongeacht leeftijd. Vragen? Betty de Jong\, 033-2580830\, bettydejong@gmail.com 
URL:https://pknmm.nl/activiteit/koffiemorgen-in-de-ontmoetingskapel/2028-06-29/
LOCATION:Ontmoetingskapel\, Kapelweg 45\, Maarn
END:VEVENT
BEGIN:VEVENT
DTSTART;TZID=Europe/Amsterdam:20280705T100000
DTEND;TZID=Europe/Amsterdam:20280705T113000
DTSTAMP:20260425T214133
CREATED:20250109T172113Z
LAST-MODIFIED:20250109T173835Z
UID:10005141-1846404000-1846409400@pknmm.nl
SUMMARY:Koffieochtend in 't Gebouwtje bij de Dorpskerk
DESCRIPTION:Iedere woensdag is er in ’t Gebouwtje bij de Dorpskerk aan de Woudenbergseweg 52 de mogelijkheid anderen te ontmoeten en een lekker kopje koffie of thee te drinken. Vanaf 10.00 uur staat de koffie klaar! Iedereen uit Maarsbergen en omgeving is van harte welkom van 10.00 tot 11.30 uur. Voor vragen kunt u contact opnemen met Nel van Wolfswinkel: 06-15181496
URL:https://pknmm.nl/activiteit/8892/2028-07-05/
LOCATION:Gebouwtje bij Dorpskerk
CATEGORIES:Koffie Ochtend
END:VEVENT
BEGIN:VEVENT
DTSTART;TZID=Europe/Amsterdam:20280706T100000
DTEND;TZID=Europe/Amsterdam:20280706T113000
DTSTAMP:20260425T214133
CREATED:20260330T122702Z
LAST-MODIFIED:20260330T123223Z
UID:10005840-1846490400-1846495800@pknmm.nl
SUMMARY:koffiemorgen in de Ontmoetingskapel
DESCRIPTION:Iedere donderdag is er in de Ontmoetingskapel de mogelijkheid anderen te ontmoeten en een lekker kopje koffie of thee te drinken. De gastvrouwen hebben vanaf 10.00 uur de koffie klaar! Iedereen is welkom\, ongeacht leeftijd. Vragen? Betty de Jong\, 033-2580830\, bettydejong@gmail.com 
URL:https://pknmm.nl/activiteit/koffiemorgen-in-de-ontmoetingskapel/2028-07-06/
LOCATION:Ontmoetingskapel\, Kapelweg 45\, Maarn
END:VEVENT
BEGIN:VEVENT
DTSTART;TZID=Europe/Amsterdam:20280712T100000
DTEND;TZID=Europe/Amsterdam:20280712T113000
DTSTAMP:20260425T214133
CREATED:20250109T172113Z
LAST-MODIFIED:20250109T173835Z
UID:10005142-1847008800-1847014200@pknmm.nl
SUMMARY:Koffieochtend in 't Gebouwtje bij de Dorpskerk
DESCRIPTION:Iedere woensdag is er in ’t Gebouwtje bij de Dorpskerk aan de Woudenbergseweg 52 de mogelijkheid anderen te ontmoeten en een lekker kopje koffie of thee te drinken. Vanaf 10.00 uur staat de koffie klaar! Iedereen uit Maarsbergen en omgeving is van harte welkom van 10.00 tot 11.30 uur. Voor vragen kunt u contact opnemen met Nel van Wolfswinkel: 06-15181496
URL:https://pknmm.nl/activiteit/8892/2028-07-12/
LOCATION:Gebouwtje bij Dorpskerk
CATEGORIES:Koffie Ochtend
END:VEVENT
BEGIN:VEVENT
DTSTART;TZID=Europe/Amsterdam:20280713T100000
DTEND;TZID=Europe/Amsterdam:20280713T113000
DTSTAMP:20260425T214133
CREATED:20260330T122702Z
LAST-MODIFIED:20260330T123223Z
UID:10005841-1847095200-1847100600@pknmm.nl
SUMMARY:koffiemorgen in de Ontmoetingskapel
DESCRIPTION:Iedere donderdag is er in de Ontmoetingskapel de mogelijkheid anderen te ontmoeten en een lekker kopje koffie of thee te drinken. De gastvrouwen hebben vanaf 10.00 uur de koffie klaar! Iedereen is welkom\, ongeacht leeftijd. Vragen? Betty de Jong\, 033-2580830\, bettydejong@gmail.com 
URL:https://pknmm.nl/activiteit/koffiemorgen-in-de-ontmoetingskapel/2028-07-13/
LOCATION:Ontmoetingskapel\, Kapelweg 45\, Maarn
END:VEVENT
BEGIN:VEVENT
DTSTART;TZID=Europe/Amsterdam:20280715T093000
DTEND;TZID=Europe/Amsterdam:20280715T120000
DTSTAMP:20260425T214133
CREATED:20250613T090123Z
LAST-MODIFIED:20250613T091041Z
UID:10005391-1847266200-1847275200@pknmm.nl
SUMMARY:Repair café Ontmoetingskapel Maarn
DESCRIPTION:Het kan altijd gebeuren:\n\n\n​Een kledingstuk\, CD- of Dvd-speler\, grasmaaier\, stofzuiger\, lamp\, of speelgoed. Alles gaat een keer kapot. Geen nood\, kom met de kapotte spullen naar het Repaircafé in de Ontmoetingskapel in Maarn. \nTijdens een Repaircafé kunt u met hun kapotte spullen naar de  in Ontmoetingskapel aan de Kapelweg in Maarn komen. Deskundige vrijwilligers zullen daar proberen die spullen te repareren.​Onze reparatiediensten worden gratis aangeboden. Alleen als er vervangende onderdelen nodig zijn dienen de kosten daarvan ter plekke te worden afgerekend.Een vrijwillige bijdrage wordt echter zeer op prijs gesteld. \n\n\n\n\n\n			\n			\n				\n				\n				\n				\n			\n				\n				\n				\n				\n				\n				\n				\n				\n				\n				\n				De eerstvolgende data: iedere derde zaterdag van de maand. \n			\n			\n				\n				\n				\n				\n			\n				\n				\n				\n				\n				\n				\n				\n				\n				\n				\n				Het Repaircafé in Maarn is mede mogelijk door onze sponsoren:
URL:https://pknmm.nl/activiteit/repair-cafe-ontmoetingskapel-maarn-2/2028-07-15/
LOCATION:Ontmoetingskapel\, Kapelweg 45\, Maarn
CATEGORIES:Algemeen
END:VEVENT
BEGIN:VEVENT
DTSTART;TZID=Europe/Amsterdam:20280719T100000
DTEND;TZID=Europe/Amsterdam:20280719T113000
DTSTAMP:20260425T214133
CREATED:20250109T172113Z
LAST-MODIFIED:20250109T173835Z
UID:10005143-1847613600-1847619000@pknmm.nl
SUMMARY:Koffieochtend in 't Gebouwtje bij de Dorpskerk
DESCRIPTION:Iedere woensdag is er in ’t Gebouwtje bij de Dorpskerk aan de Woudenbergseweg 52 de mogelijkheid anderen te ontmoeten en een lekker kopje koffie of thee te drinken. Vanaf 10.00 uur staat de koffie klaar! Iedereen uit Maarsbergen en omgeving is van harte welkom van 10.00 tot 11.30 uur. Voor vragen kunt u contact opnemen met Nel van Wolfswinkel: 06-15181496
URL:https://pknmm.nl/activiteit/8892/2028-07-19/
LOCATION:Gebouwtje bij Dorpskerk
CATEGORIES:Koffie Ochtend
END:VEVENT
BEGIN:VEVENT
DTSTART;TZID=Europe/Amsterdam:20280720T100000
DTEND;TZID=Europe/Amsterdam:20280720T113000
DTSTAMP:20260425T214133
CREATED:20260330T122702Z
LAST-MODIFIED:20260330T123223Z
UID:10005842-1847700000-1847705400@pknmm.nl
SUMMARY:koffiemorgen in de Ontmoetingskapel
DESCRIPTION:Iedere donderdag is er in de Ontmoetingskapel de mogelijkheid anderen te ontmoeten en een lekker kopje koffie of thee te drinken. De gastvrouwen hebben vanaf 10.00 uur de koffie klaar! Iedereen is welkom\, ongeacht leeftijd. Vragen? Betty de Jong\, 033-2580830\, bettydejong@gmail.com 
URL:https://pknmm.nl/activiteit/koffiemorgen-in-de-ontmoetingskapel/2028-07-20/
LOCATION:Ontmoetingskapel\, Kapelweg 45\, Maarn
END:VEVENT
BEGIN:VEVENT
DTSTART;TZID=Europe/Amsterdam:20280726T100000
DTEND;TZID=Europe/Amsterdam:20280726T113000
DTSTAMP:20260425T214133
CREATED:20250109T172113Z
LAST-MODIFIED:20250109T173835Z
UID:10005144-1848218400-1848223800@pknmm.nl
SUMMARY:Koffieochtend in 't Gebouwtje bij de Dorpskerk
DESCRIPTION:Iedere woensdag is er in ’t Gebouwtje bij de Dorpskerk aan de Woudenbergseweg 52 de mogelijkheid anderen te ontmoeten en een lekker kopje koffie of thee te drinken. Vanaf 10.00 uur staat de koffie klaar! Iedereen uit Maarsbergen en omgeving is van harte welkom van 10.00 tot 11.30 uur. Voor vragen kunt u contact opnemen met Nel van Wolfswinkel: 06-15181496
URL:https://pknmm.nl/activiteit/8892/2028-07-26/
LOCATION:Gebouwtje bij Dorpskerk
CATEGORIES:Koffie Ochtend
END:VEVENT
BEGIN:VEVENT
DTSTART;TZID=Europe/Amsterdam:20280727T100000
DTEND;TZID=Europe/Amsterdam:20280727T113000
DTSTAMP:20260425T214133
CREATED:20260330T122702Z
LAST-MODIFIED:20260330T123223Z
UID:10005843-1848304800-1848310200@pknmm.nl
SUMMARY:koffiemorgen in de Ontmoetingskapel
DESCRIPTION:Iedere donderdag is er in de Ontmoetingskapel de mogelijkheid anderen te ontmoeten en een lekker kopje koffie of thee te drinken. De gastvrouwen hebben vanaf 10.00 uur de koffie klaar! Iedereen is welkom\, ongeacht leeftijd. Vragen? Betty de Jong\, 033-2580830\, bettydejong@gmail.com 
URL:https://pknmm.nl/activiteit/koffiemorgen-in-de-ontmoetingskapel/2028-07-27/
LOCATION:Ontmoetingskapel\, Kapelweg 45\, Maarn
END:VEVENT
BEGIN:VEVENT
DTSTART;TZID=Europe/Amsterdam:20280802T100000
DTEND;TZID=Europe/Amsterdam:20280802T113000
DTSTAMP:20260425T214133
CREATED:20250109T172113Z
LAST-MODIFIED:20250109T173835Z
UID:10005145-1848823200-1848828600@pknmm.nl
SUMMARY:Koffieochtend in 't Gebouwtje bij de Dorpskerk
DESCRIPTION:Iedere woensdag is er in ’t Gebouwtje bij de Dorpskerk aan de Woudenbergseweg 52 de mogelijkheid anderen te ontmoeten en een lekker kopje koffie of thee te drinken. Vanaf 10.00 uur staat de koffie klaar! Iedereen uit Maarsbergen en omgeving is van harte welkom van 10.00 tot 11.30 uur. Voor vragen kunt u contact opnemen met Nel van Wolfswinkel: 06-15181496
URL:https://pknmm.nl/activiteit/8892/2028-08-02/
LOCATION:Gebouwtje bij Dorpskerk
CATEGORIES:Koffie Ochtend
END:VEVENT
BEGIN:VEVENT
DTSTART;TZID=Europe/Amsterdam:20280803T100000
DTEND;TZID=Europe/Amsterdam:20280803T113000
DTSTAMP:20260425T214133
CREATED:20260330T122702Z
LAST-MODIFIED:20260330T123223Z
UID:10005844-1848909600-1848915000@pknmm.nl
SUMMARY:koffiemorgen in de Ontmoetingskapel
DESCRIPTION:Iedere donderdag is er in de Ontmoetingskapel de mogelijkheid anderen te ontmoeten en een lekker kopje koffie of thee te drinken. De gastvrouwen hebben vanaf 10.00 uur de koffie klaar! Iedereen is welkom\, ongeacht leeftijd. Vragen? Betty de Jong\, 033-2580830\, bettydejong@gmail.com 
URL:https://pknmm.nl/activiteit/koffiemorgen-in-de-ontmoetingskapel/2028-08-03/
LOCATION:Ontmoetingskapel\, Kapelweg 45\, Maarn
END:VEVENT
BEGIN:VEVENT
DTSTART;TZID=Europe/Amsterdam:20280809T100000
DTEND;TZID=Europe/Amsterdam:20280809T113000
DTSTAMP:20260425T214133
CREATED:20250109T172113Z
LAST-MODIFIED:20250109T173835Z
UID:10005146-1849428000-1849433400@pknmm.nl
SUMMARY:Koffieochtend in 't Gebouwtje bij de Dorpskerk
DESCRIPTION:Iedere woensdag is er in ’t Gebouwtje bij de Dorpskerk aan de Woudenbergseweg 52 de mogelijkheid anderen te ontmoeten en een lekker kopje koffie of thee te drinken. Vanaf 10.00 uur staat de koffie klaar! Iedereen uit Maarsbergen en omgeving is van harte welkom van 10.00 tot 11.30 uur. Voor vragen kunt u contact opnemen met Nel van Wolfswinkel: 06-15181496
URL:https://pknmm.nl/activiteit/8892/2028-08-09/
LOCATION:Gebouwtje bij Dorpskerk
CATEGORIES:Koffie Ochtend
END:VEVENT
BEGIN:VEVENT
DTSTART;TZID=Europe/Amsterdam:20280810T100000
DTEND;TZID=Europe/Amsterdam:20280810T113000
DTSTAMP:20260425T214133
CREATED:20260330T122702Z
LAST-MODIFIED:20260330T123223Z
UID:10005845-1849514400-1849519800@pknmm.nl
SUMMARY:koffiemorgen in de Ontmoetingskapel
DESCRIPTION:Iedere donderdag is er in de Ontmoetingskapel de mogelijkheid anderen te ontmoeten en een lekker kopje koffie of thee te drinken. De gastvrouwen hebben vanaf 10.00 uur de koffie klaar! Iedereen is welkom\, ongeacht leeftijd. Vragen? Betty de Jong\, 033-2580830\, bettydejong@gmail.com 
URL:https://pknmm.nl/activiteit/koffiemorgen-in-de-ontmoetingskapel/2028-08-10/
LOCATION:Ontmoetingskapel\, Kapelweg 45\, Maarn
END:VEVENT
BEGIN:VEVENT
DTSTART;TZID=Europe/Amsterdam:20280816T100000
DTEND;TZID=Europe/Amsterdam:20280816T113000
DTSTAMP:20260425T214133
CREATED:20250109T172113Z
LAST-MODIFIED:20250109T173835Z
UID:10005147-1850032800-1850038200@pknmm.nl
SUMMARY:Koffieochtend in 't Gebouwtje bij de Dorpskerk
DESCRIPTION:Iedere woensdag is er in ’t Gebouwtje bij de Dorpskerk aan de Woudenbergseweg 52 de mogelijkheid anderen te ontmoeten en een lekker kopje koffie of thee te drinken. Vanaf 10.00 uur staat de koffie klaar! Iedereen uit Maarsbergen en omgeving is van harte welkom van 10.00 tot 11.30 uur. Voor vragen kunt u contact opnemen met Nel van Wolfswinkel: 06-15181496
URL:https://pknmm.nl/activiteit/8892/2028-08-16/
LOCATION:Gebouwtje bij Dorpskerk
CATEGORIES:Koffie Ochtend
END:VEVENT
BEGIN:VEVENT
DTSTART;TZID=Europe/Amsterdam:20280817T100000
DTEND;TZID=Europe/Amsterdam:20280817T113000
DTSTAMP:20260425T214133
CREATED:20260330T122702Z
LAST-MODIFIED:20260330T123223Z
UID:10005846-1850119200-1850124600@pknmm.nl
SUMMARY:koffiemorgen in de Ontmoetingskapel
DESCRIPTION:Iedere donderdag is er in de Ontmoetingskapel de mogelijkheid anderen te ontmoeten en een lekker kopje koffie of thee te drinken. De gastvrouwen hebben vanaf 10.00 uur de koffie klaar! Iedereen is welkom\, ongeacht leeftijd. Vragen? Betty de Jong\, 033-2580830\, bettydejong@gmail.com 
URL:https://pknmm.nl/activiteit/koffiemorgen-in-de-ontmoetingskapel/2028-08-17/
LOCATION:Ontmoetingskapel\, Kapelweg 45\, Maarn
END:VEVENT
BEGIN:VEVENT
DTSTART;TZID=Europe/Amsterdam:20280819T093000
DTEND;TZID=Europe/Amsterdam:20280819T120000
DTSTAMP:20260425T214133
CREATED:20250613T090123Z
LAST-MODIFIED:20250613T091041Z
UID:10005392-1850290200-1850299200@pknmm.nl
SUMMARY:Repair café Ontmoetingskapel Maarn
DESCRIPTION:Het kan altijd gebeuren:\n\n\n​Een kledingstuk\, CD- of Dvd-speler\, grasmaaier\, stofzuiger\, lamp\, of speelgoed. Alles gaat een keer kapot. Geen nood\, kom met de kapotte spullen naar het Repaircafé in de Ontmoetingskapel in Maarn. \nTijdens een Repaircafé kunt u met hun kapotte spullen naar de  in Ontmoetingskapel aan de Kapelweg in Maarn komen. Deskundige vrijwilligers zullen daar proberen die spullen te repareren.​Onze reparatiediensten worden gratis aangeboden. Alleen als er vervangende onderdelen nodig zijn dienen de kosten daarvan ter plekke te worden afgerekend.Een vrijwillige bijdrage wordt echter zeer op prijs gesteld. \n\n\n\n\n\n			\n			\n				\n				\n				\n				\n			\n				\n				\n				\n				\n				\n				\n				\n				\n				\n				\n				De eerstvolgende data: iedere derde zaterdag van de maand. \n			\n			\n				\n				\n				\n				\n			\n				\n				\n				\n				\n				\n				\n				\n				\n				\n				\n				Het Repaircafé in Maarn is mede mogelijk door onze sponsoren:
URL:https://pknmm.nl/activiteit/repair-cafe-ontmoetingskapel-maarn-2/2028-08-19/
LOCATION:Ontmoetingskapel\, Kapelweg 45\, Maarn
CATEGORIES:Algemeen
END:VEVENT
BEGIN:VEVENT
DTSTART;TZID=Europe/Amsterdam:20280823T100000
DTEND;TZID=Europe/Amsterdam:20280823T113000
DTSTAMP:20260425T214133
CREATED:20250109T172113Z
LAST-MODIFIED:20250109T173835Z
UID:10005148-1850637600-1850643000@pknmm.nl
SUMMARY:Koffieochtend in 't Gebouwtje bij de Dorpskerk
DESCRIPTION:Iedere woensdag is er in ’t Gebouwtje bij de Dorpskerk aan de Woudenbergseweg 52 de mogelijkheid anderen te ontmoeten en een lekker kopje koffie of thee te drinken. Vanaf 10.00 uur staat de koffie klaar! Iedereen uit Maarsbergen en omgeving is van harte welkom van 10.00 tot 11.30 uur. Voor vragen kunt u contact opnemen met Nel van Wolfswinkel: 06-15181496
URL:https://pknmm.nl/activiteit/8892/2028-08-23/
LOCATION:Gebouwtje bij Dorpskerk
CATEGORIES:Koffie Ochtend
END:VEVENT
BEGIN:VEVENT
DTSTART;TZID=Europe/Amsterdam:20280824T100000
DTEND;TZID=Europe/Amsterdam:20280824T113000
DTSTAMP:20260425T214133
CREATED:20260330T122702Z
LAST-MODIFIED:20260330T123223Z
UID:10005847-1850724000-1850729400@pknmm.nl
SUMMARY:koffiemorgen in de Ontmoetingskapel
DESCRIPTION:Iedere donderdag is er in de Ontmoetingskapel de mogelijkheid anderen te ontmoeten en een lekker kopje koffie of thee te drinken. De gastvrouwen hebben vanaf 10.00 uur de koffie klaar! Iedereen is welkom\, ongeacht leeftijd. Vragen? Betty de Jong\, 033-2580830\, bettydejong@gmail.com 
URL:https://pknmm.nl/activiteit/koffiemorgen-in-de-ontmoetingskapel/2028-08-24/
LOCATION:Ontmoetingskapel\, Kapelweg 45\, Maarn
END:VEVENT
BEGIN:VEVENT
DTSTART;TZID=Europe/Amsterdam:20280830T100000
DTEND;TZID=Europe/Amsterdam:20280830T113000
DTSTAMP:20260425T214133
CREATED:20250109T172113Z
LAST-MODIFIED:20250109T173835Z
UID:10005149-1851242400-1851247800@pknmm.nl
SUMMARY:Koffieochtend in 't Gebouwtje bij de Dorpskerk
DESCRIPTION:Iedere woensdag is er in ’t Gebouwtje bij de Dorpskerk aan de Woudenbergseweg 52 de mogelijkheid anderen te ontmoeten en een lekker kopje koffie of thee te drinken. Vanaf 10.00 uur staat de koffie klaar! Iedereen uit Maarsbergen en omgeving is van harte welkom van 10.00 tot 11.30 uur. Voor vragen kunt u contact opnemen met Nel van Wolfswinkel: 06-15181496
URL:https://pknmm.nl/activiteit/8892/2028-08-30/
LOCATION:Gebouwtje bij Dorpskerk
CATEGORIES:Koffie Ochtend
END:VEVENT
BEGIN:VEVENT
DTSTART;TZID=Europe/Amsterdam:20280831T100000
DTEND;TZID=Europe/Amsterdam:20280831T113000
DTSTAMP:20260425T214133
CREATED:20260330T122702Z
LAST-MODIFIED:20260330T123223Z
UID:10005848-1851328800-1851334200@pknmm.nl
SUMMARY:koffiemorgen in de Ontmoetingskapel
DESCRIPTION:Iedere donderdag is er in de Ontmoetingskapel de mogelijkheid anderen te ontmoeten en een lekker kopje koffie of thee te drinken. De gastvrouwen hebben vanaf 10.00 uur de koffie klaar! Iedereen is welkom\, ongeacht leeftijd. Vragen? Betty de Jong\, 033-2580830\, bettydejong@gmail.com 
URL:https://pknmm.nl/activiteit/koffiemorgen-in-de-ontmoetingskapel/2028-08-31/
LOCATION:Ontmoetingskapel\, Kapelweg 45\, Maarn
END:VEVENT
BEGIN:VEVENT
DTSTART;TZID=Europe/Amsterdam:20280906T100000
DTEND;TZID=Europe/Amsterdam:20280906T113000
DTSTAMP:20260425T214133
CREATED:20250109T172113Z
LAST-MODIFIED:20250109T173835Z
UID:10005150-1851847200-1851852600@pknmm.nl
SUMMARY:Koffieochtend in 't Gebouwtje bij de Dorpskerk
DESCRIPTION:Iedere woensdag is er in ’t Gebouwtje bij de Dorpskerk aan de Woudenbergseweg 52 de mogelijkheid anderen te ontmoeten en een lekker kopje koffie of thee te drinken. Vanaf 10.00 uur staat de koffie klaar! Iedereen uit Maarsbergen en omgeving is van harte welkom van 10.00 tot 11.30 uur. Voor vragen kunt u contact opnemen met Nel van Wolfswinkel: 06-15181496
URL:https://pknmm.nl/activiteit/8892/2028-09-06/
LOCATION:Gebouwtje bij Dorpskerk
CATEGORIES:Koffie Ochtend
END:VEVENT
BEGIN:VEVENT
DTSTART;TZID=Europe/Amsterdam:20280907T100000
DTEND;TZID=Europe/Amsterdam:20280907T113000
DTSTAMP:20260425T214133
CREATED:20260330T122702Z
LAST-MODIFIED:20260330T123223Z
UID:10005849-1851933600-1851939000@pknmm.nl
SUMMARY:koffiemorgen in de Ontmoetingskapel
DESCRIPTION:Iedere donderdag is er in de Ontmoetingskapel de mogelijkheid anderen te ontmoeten en een lekker kopje koffie of thee te drinken. De gastvrouwen hebben vanaf 10.00 uur de koffie klaar! Iedereen is welkom\, ongeacht leeftijd. Vragen? Betty de Jong\, 033-2580830\, bettydejong@gmail.com 
URL:https://pknmm.nl/activiteit/koffiemorgen-in-de-ontmoetingskapel/2028-09-07/
LOCATION:Ontmoetingskapel\, Kapelweg 45\, Maarn
END:VEVENT
BEGIN:VEVENT
DTSTART;TZID=Europe/Amsterdam:20280913T100000
DTEND;TZID=Europe/Amsterdam:20280913T113000
DTSTAMP:20260425T214133
CREATED:20250109T172113Z
LAST-MODIFIED:20250109T173835Z
UID:10005151-1852452000-1852457400@pknmm.nl
SUMMARY:Koffieochtend in 't Gebouwtje bij de Dorpskerk
DESCRIPTION:Iedere woensdag is er in ’t Gebouwtje bij de Dorpskerk aan de Woudenbergseweg 52 de mogelijkheid anderen te ontmoeten en een lekker kopje koffie of thee te drinken. Vanaf 10.00 uur staat de koffie klaar! Iedereen uit Maarsbergen en omgeving is van harte welkom van 10.00 tot 11.30 uur. Voor vragen kunt u contact opnemen met Nel van Wolfswinkel: 06-15181496
URL:https://pknmm.nl/activiteit/8892/2028-09-13/
LOCATION:Gebouwtje bij Dorpskerk
CATEGORIES:Koffie Ochtend
END:VEVENT
BEGIN:VEVENT
DTSTART;TZID=Europe/Amsterdam:20280914T100000
DTEND;TZID=Europe/Amsterdam:20280914T113000
DTSTAMP:20260425T214133
CREATED:20260330T122702Z
LAST-MODIFIED:20260330T123223Z
UID:10005850-1852538400-1852543800@pknmm.nl
SUMMARY:koffiemorgen in de Ontmoetingskapel
DESCRIPTION:Iedere donderdag is er in de Ontmoetingskapel de mogelijkheid anderen te ontmoeten en een lekker kopje koffie of thee te drinken. De gastvrouwen hebben vanaf 10.00 uur de koffie klaar! Iedereen is welkom\, ongeacht leeftijd. Vragen? Betty de Jong\, 033-2580830\, bettydejong@gmail.com 
URL:https://pknmm.nl/activiteit/koffiemorgen-in-de-ontmoetingskapel/2028-09-14/
LOCATION:Ontmoetingskapel\, Kapelweg 45\, Maarn
END:VEVENT
END:VCALENDAR