BEGIN:VCALENDAR
VERSION:2.0
PRODID:-//Protestantse Gemeente Maarn-Maarsbergen - ECPv6.15.12.2//NONSGML v1.0//EN
CALSCALE:GREGORIAN
METHOD:PUBLISH
X-WR-CALNAME:Protestantse Gemeente Maarn-Maarsbergen
X-ORIGINAL-URL:https://pknmm.nl
X-WR-CALDESC:Evenementen voor Protestantse Gemeente Maarn-Maarsbergen
REFRESH-INTERVAL;VALUE=DURATION:PT1H
X-Robots-Tag:noindex
X-PUBLISHED-TTL:PT1H
BEGIN:VTIMEZONE
TZID:Europe/Amsterdam
BEGIN:DAYLIGHT
TZOFFSETFROM:+0100
TZOFFSETTO:+0200
TZNAME:CEST
DTSTART:20260329T010000
END:DAYLIGHT
BEGIN:STANDARD
TZOFFSETFROM:+0200
TZOFFSETTO:+0100
TZNAME:CET
DTSTART:20261025T010000
END:STANDARD
BEGIN:DAYLIGHT
TZOFFSETFROM:+0100
TZOFFSETTO:+0200
TZNAME:CEST
DTSTART:20270328T010000
END:DAYLIGHT
BEGIN:STANDARD
TZOFFSETFROM:+0200
TZOFFSETTO:+0100
TZNAME:CET
DTSTART:20271031T010000
END:STANDARD
BEGIN:DAYLIGHT
TZOFFSETFROM:+0100
TZOFFSETTO:+0200
TZNAME:CEST
DTSTART:20280326T010000
END:DAYLIGHT
BEGIN:STANDARD
TZOFFSETFROM:+0200
TZOFFSETTO:+0100
TZNAME:CET
DTSTART:20281029T010000
END:STANDARD
END:VTIMEZONE
BEGIN:VEVENT
DTSTART;TZID=Europe/Amsterdam:20270428T100000
DTEND;TZID=Europe/Amsterdam:20270428T113000
DTSTAMP:20260425T033649
CREATED:20250109T172113Z
LAST-MODIFIED:20250109T173835Z
UID:10005079-1808906400-1808911800@pknmm.nl
SUMMARY:Koffieochtend in 't Gebouwtje bij de Dorpskerk
DESCRIPTION:Iedere woensdag is er in ’t Gebouwtje bij de Dorpskerk aan de Woudenbergseweg 52 de mogelijkheid anderen te ontmoeten en een lekker kopje koffie of thee te drinken. Vanaf 10.00 uur staat de koffie klaar! Iedereen uit Maarsbergen en omgeving is van harte welkom van 10.00 tot 11.30 uur. Voor vragen kunt u contact opnemen met Nel van Wolfswinkel: 06-15181496
URL:https://pknmm.nl/activiteit/8892/2027-04-28/
LOCATION:Gebouwtje bij Dorpskerk
CATEGORIES:Koffie Ochtend
END:VEVENT
BEGIN:VEVENT
DTSTART;TZID=Europe/Amsterdam:20270429T100000
DTEND;TZID=Europe/Amsterdam:20270429T113000
DTSTAMP:20260425T033649
CREATED:20260330T122702Z
LAST-MODIFIED:20260330T123223Z
UID:10005778-1808992800-1808998200@pknmm.nl
SUMMARY:koffiemorgen in de Ontmoetingskapel
DESCRIPTION:Iedere donderdag is er in de Ontmoetingskapel de mogelijkheid anderen te ontmoeten en een lekker kopje koffie of thee te drinken. De gastvrouwen hebben vanaf 10.00 uur de koffie klaar! Iedereen is welkom\, ongeacht leeftijd. Vragen? Betty de Jong\, 033-2580830\, bettydejong@gmail.com 
URL:https://pknmm.nl/activiteit/koffiemorgen-in-de-ontmoetingskapel/2027-04-29/
LOCATION:Ontmoetingskapel\, Kapelweg 45\, Maarn
END:VEVENT
BEGIN:VEVENT
DTSTART;TZID=Europe/Amsterdam:20270505T100000
DTEND;TZID=Europe/Amsterdam:20270505T113000
DTSTAMP:20260425T033649
CREATED:20250109T172113Z
LAST-MODIFIED:20250109T173835Z
UID:10005080-1809511200-1809516600@pknmm.nl
SUMMARY:Koffieochtend in 't Gebouwtje bij de Dorpskerk
DESCRIPTION:Iedere woensdag is er in ’t Gebouwtje bij de Dorpskerk aan de Woudenbergseweg 52 de mogelijkheid anderen te ontmoeten en een lekker kopje koffie of thee te drinken. Vanaf 10.00 uur staat de koffie klaar! Iedereen uit Maarsbergen en omgeving is van harte welkom van 10.00 tot 11.30 uur. Voor vragen kunt u contact opnemen met Nel van Wolfswinkel: 06-15181496
URL:https://pknmm.nl/activiteit/8892/2027-05-05/
LOCATION:Gebouwtje bij Dorpskerk
CATEGORIES:Koffie Ochtend
END:VEVENT
BEGIN:VEVENT
DTSTART;TZID=Europe/Amsterdam:20270506T100000
DTEND;TZID=Europe/Amsterdam:20270506T113000
DTSTAMP:20260425T033649
CREATED:20260330T122702Z
LAST-MODIFIED:20260330T123223Z
UID:10005779-1809597600-1809603000@pknmm.nl
SUMMARY:koffiemorgen in de Ontmoetingskapel
DESCRIPTION:Iedere donderdag is er in de Ontmoetingskapel de mogelijkheid anderen te ontmoeten en een lekker kopje koffie of thee te drinken. De gastvrouwen hebben vanaf 10.00 uur de koffie klaar! Iedereen is welkom\, ongeacht leeftijd. Vragen? Betty de Jong\, 033-2580830\, bettydejong@gmail.com 
URL:https://pknmm.nl/activiteit/koffiemorgen-in-de-ontmoetingskapel/2027-05-06/
LOCATION:Ontmoetingskapel\, Kapelweg 45\, Maarn
END:VEVENT
BEGIN:VEVENT
DTSTART;TZID=Europe/Amsterdam:20270512T100000
DTEND;TZID=Europe/Amsterdam:20270512T113000
DTSTAMP:20260425T033649
CREATED:20250109T172113Z
LAST-MODIFIED:20250109T173835Z
UID:10005081-1810116000-1810121400@pknmm.nl
SUMMARY:Koffieochtend in 't Gebouwtje bij de Dorpskerk
DESCRIPTION:Iedere woensdag is er in ’t Gebouwtje bij de Dorpskerk aan de Woudenbergseweg 52 de mogelijkheid anderen te ontmoeten en een lekker kopje koffie of thee te drinken. Vanaf 10.00 uur staat de koffie klaar! Iedereen uit Maarsbergen en omgeving is van harte welkom van 10.00 tot 11.30 uur. Voor vragen kunt u contact opnemen met Nel van Wolfswinkel: 06-15181496
URL:https://pknmm.nl/activiteit/8892/2027-05-12/
LOCATION:Gebouwtje bij Dorpskerk
CATEGORIES:Koffie Ochtend
END:VEVENT
BEGIN:VEVENT
DTSTART;TZID=Europe/Amsterdam:20270513T100000
DTEND;TZID=Europe/Amsterdam:20270513T113000
DTSTAMP:20260425T033649
CREATED:20260330T122702Z
LAST-MODIFIED:20260330T123223Z
UID:10005780-1810202400-1810207800@pknmm.nl
SUMMARY:koffiemorgen in de Ontmoetingskapel
DESCRIPTION:Iedere donderdag is er in de Ontmoetingskapel de mogelijkheid anderen te ontmoeten en een lekker kopje koffie of thee te drinken. De gastvrouwen hebben vanaf 10.00 uur de koffie klaar! Iedereen is welkom\, ongeacht leeftijd. Vragen? Betty de Jong\, 033-2580830\, bettydejong@gmail.com 
URL:https://pknmm.nl/activiteit/koffiemorgen-in-de-ontmoetingskapel/2027-05-13/
LOCATION:Ontmoetingskapel\, Kapelweg 45\, Maarn
END:VEVENT
BEGIN:VEVENT
DTSTART;TZID=Europe/Amsterdam:20270515T093000
DTEND;TZID=Europe/Amsterdam:20270515T120000
DTSTAMP:20260425T033649
CREATED:20250613T090123Z
LAST-MODIFIED:20250613T091041Z
UID:10005377-1810373400-1810382400@pknmm.nl
SUMMARY:Repair café Ontmoetingskapel Maarn
DESCRIPTION:Het kan altijd gebeuren:\n\n\n​Een kledingstuk\, CD- of Dvd-speler\, grasmaaier\, stofzuiger\, lamp\, of speelgoed. Alles gaat een keer kapot. Geen nood\, kom met de kapotte spullen naar het Repaircafé in de Ontmoetingskapel in Maarn. \nTijdens een Repaircafé kunt u met hun kapotte spullen naar de  in Ontmoetingskapel aan de Kapelweg in Maarn komen. Deskundige vrijwilligers zullen daar proberen die spullen te repareren.​Onze reparatiediensten worden gratis aangeboden. Alleen als er vervangende onderdelen nodig zijn dienen de kosten daarvan ter plekke te worden afgerekend.Een vrijwillige bijdrage wordt echter zeer op prijs gesteld. \n\n\n\n\n\n			\n			\n				\n				\n				\n				\n			\n				\n				\n				\n				\n				\n				\n				\n				\n				\n				\n				De eerstvolgende data: iedere derde zaterdag van de maand. \n			\n			\n				\n				\n				\n				\n			\n				\n				\n				\n				\n				\n				\n				\n				\n				\n				\n				Het Repaircafé in Maarn is mede mogelijk door onze sponsoren:
URL:https://pknmm.nl/activiteit/repair-cafe-ontmoetingskapel-maarn-2/2027-05-15/
LOCATION:Ontmoetingskapel\, Kapelweg 45\, Maarn
CATEGORIES:Algemeen
END:VEVENT
BEGIN:VEVENT
DTSTART;TZID=Europe/Amsterdam:20270519T100000
DTEND;TZID=Europe/Amsterdam:20270519T113000
DTSTAMP:20260425T033649
CREATED:20250109T172113Z
LAST-MODIFIED:20250109T173835Z
UID:10005082-1810720800-1810726200@pknmm.nl
SUMMARY:Koffieochtend in 't Gebouwtje bij de Dorpskerk
DESCRIPTION:Iedere woensdag is er in ’t Gebouwtje bij de Dorpskerk aan de Woudenbergseweg 52 de mogelijkheid anderen te ontmoeten en een lekker kopje koffie of thee te drinken. Vanaf 10.00 uur staat de koffie klaar! Iedereen uit Maarsbergen en omgeving is van harte welkom van 10.00 tot 11.30 uur. Voor vragen kunt u contact opnemen met Nel van Wolfswinkel: 06-15181496
URL:https://pknmm.nl/activiteit/8892/2027-05-19/
LOCATION:Gebouwtje bij Dorpskerk
CATEGORIES:Koffie Ochtend
END:VEVENT
BEGIN:VEVENT
DTSTART;TZID=Europe/Amsterdam:20270520T100000
DTEND;TZID=Europe/Amsterdam:20270520T113000
DTSTAMP:20260425T033649
CREATED:20260330T122702Z
LAST-MODIFIED:20260330T123223Z
UID:10005781-1810807200-1810812600@pknmm.nl
SUMMARY:koffiemorgen in de Ontmoetingskapel
DESCRIPTION:Iedere donderdag is er in de Ontmoetingskapel de mogelijkheid anderen te ontmoeten en een lekker kopje koffie of thee te drinken. De gastvrouwen hebben vanaf 10.00 uur de koffie klaar! Iedereen is welkom\, ongeacht leeftijd. Vragen? Betty de Jong\, 033-2580830\, bettydejong@gmail.com 
URL:https://pknmm.nl/activiteit/koffiemorgen-in-de-ontmoetingskapel/2027-05-20/
LOCATION:Ontmoetingskapel\, Kapelweg 45\, Maarn
END:VEVENT
BEGIN:VEVENT
DTSTART;TZID=Europe/Amsterdam:20270526T100000
DTEND;TZID=Europe/Amsterdam:20270526T113000
DTSTAMP:20260425T033649
CREATED:20250109T172113Z
LAST-MODIFIED:20250109T173835Z
UID:10005083-1811325600-1811331000@pknmm.nl
SUMMARY:Koffieochtend in 't Gebouwtje bij de Dorpskerk
DESCRIPTION:Iedere woensdag is er in ’t Gebouwtje bij de Dorpskerk aan de Woudenbergseweg 52 de mogelijkheid anderen te ontmoeten en een lekker kopje koffie of thee te drinken. Vanaf 10.00 uur staat de koffie klaar! Iedereen uit Maarsbergen en omgeving is van harte welkom van 10.00 tot 11.30 uur. Voor vragen kunt u contact opnemen met Nel van Wolfswinkel: 06-15181496
URL:https://pknmm.nl/activiteit/8892/2027-05-26/
LOCATION:Gebouwtje bij Dorpskerk
CATEGORIES:Koffie Ochtend
END:VEVENT
BEGIN:VEVENT
DTSTART;TZID=Europe/Amsterdam:20270527T100000
DTEND;TZID=Europe/Amsterdam:20270527T113000
DTSTAMP:20260425T033649
CREATED:20260330T122702Z
LAST-MODIFIED:20260330T123223Z
UID:10005782-1811412000-1811417400@pknmm.nl
SUMMARY:koffiemorgen in de Ontmoetingskapel
DESCRIPTION:Iedere donderdag is er in de Ontmoetingskapel de mogelijkheid anderen te ontmoeten en een lekker kopje koffie of thee te drinken. De gastvrouwen hebben vanaf 10.00 uur de koffie klaar! Iedereen is welkom\, ongeacht leeftijd. Vragen? Betty de Jong\, 033-2580830\, bettydejong@gmail.com 
URL:https://pknmm.nl/activiteit/koffiemorgen-in-de-ontmoetingskapel/2027-05-27/
LOCATION:Ontmoetingskapel\, Kapelweg 45\, Maarn
END:VEVENT
BEGIN:VEVENT
DTSTART;TZID=Europe/Amsterdam:20270602T100000
DTEND;TZID=Europe/Amsterdam:20270602T113000
DTSTAMP:20260425T033649
CREATED:20250109T172113Z
LAST-MODIFIED:20250109T173835Z
UID:10005084-1811930400-1811935800@pknmm.nl
SUMMARY:Koffieochtend in 't Gebouwtje bij de Dorpskerk
DESCRIPTION:Iedere woensdag is er in ’t Gebouwtje bij de Dorpskerk aan de Woudenbergseweg 52 de mogelijkheid anderen te ontmoeten en een lekker kopje koffie of thee te drinken. Vanaf 10.00 uur staat de koffie klaar! Iedereen uit Maarsbergen en omgeving is van harte welkom van 10.00 tot 11.30 uur. Voor vragen kunt u contact opnemen met Nel van Wolfswinkel: 06-15181496
URL:https://pknmm.nl/activiteit/8892/2027-06-02/
LOCATION:Gebouwtje bij Dorpskerk
CATEGORIES:Koffie Ochtend
END:VEVENT
BEGIN:VEVENT
DTSTART;TZID=Europe/Amsterdam:20270603T100000
DTEND;TZID=Europe/Amsterdam:20270603T113000
DTSTAMP:20260425T033649
CREATED:20260330T122702Z
LAST-MODIFIED:20260330T123223Z
UID:10005783-1812016800-1812022200@pknmm.nl
SUMMARY:koffiemorgen in de Ontmoetingskapel
DESCRIPTION:Iedere donderdag is er in de Ontmoetingskapel de mogelijkheid anderen te ontmoeten en een lekker kopje koffie of thee te drinken. De gastvrouwen hebben vanaf 10.00 uur de koffie klaar! Iedereen is welkom\, ongeacht leeftijd. Vragen? Betty de Jong\, 033-2580830\, bettydejong@gmail.com 
URL:https://pknmm.nl/activiteit/koffiemorgen-in-de-ontmoetingskapel/2027-06-03/
LOCATION:Ontmoetingskapel\, Kapelweg 45\, Maarn
END:VEVENT
BEGIN:VEVENT
DTSTART;TZID=Europe/Amsterdam:20270609T100000
DTEND;TZID=Europe/Amsterdam:20270609T113000
DTSTAMP:20260425T033649
CREATED:20250109T172113Z
LAST-MODIFIED:20250109T173835Z
UID:10005085-1812535200-1812540600@pknmm.nl
SUMMARY:Koffieochtend in 't Gebouwtje bij de Dorpskerk
DESCRIPTION:Iedere woensdag is er in ’t Gebouwtje bij de Dorpskerk aan de Woudenbergseweg 52 de mogelijkheid anderen te ontmoeten en een lekker kopje koffie of thee te drinken. Vanaf 10.00 uur staat de koffie klaar! Iedereen uit Maarsbergen en omgeving is van harte welkom van 10.00 tot 11.30 uur. Voor vragen kunt u contact opnemen met Nel van Wolfswinkel: 06-15181496
URL:https://pknmm.nl/activiteit/8892/2027-06-09/
LOCATION:Gebouwtje bij Dorpskerk
CATEGORIES:Koffie Ochtend
END:VEVENT
BEGIN:VEVENT
DTSTART;TZID=Europe/Amsterdam:20270610T100000
DTEND;TZID=Europe/Amsterdam:20270610T113000
DTSTAMP:20260425T033649
CREATED:20260330T122702Z
LAST-MODIFIED:20260330T123223Z
UID:10005784-1812621600-1812627000@pknmm.nl
SUMMARY:koffiemorgen in de Ontmoetingskapel
DESCRIPTION:Iedere donderdag is er in de Ontmoetingskapel de mogelijkheid anderen te ontmoeten en een lekker kopje koffie of thee te drinken. De gastvrouwen hebben vanaf 10.00 uur de koffie klaar! Iedereen is welkom\, ongeacht leeftijd. Vragen? Betty de Jong\, 033-2580830\, bettydejong@gmail.com 
URL:https://pknmm.nl/activiteit/koffiemorgen-in-de-ontmoetingskapel/2027-06-10/
LOCATION:Ontmoetingskapel\, Kapelweg 45\, Maarn
END:VEVENT
BEGIN:VEVENT
DTSTART;TZID=Europe/Amsterdam:20270616T100000
DTEND;TZID=Europe/Amsterdam:20270616T113000
DTSTAMP:20260425T033649
CREATED:20250109T172113Z
LAST-MODIFIED:20250109T173835Z
UID:10005086-1813140000-1813145400@pknmm.nl
SUMMARY:Koffieochtend in 't Gebouwtje bij de Dorpskerk
DESCRIPTION:Iedere woensdag is er in ’t Gebouwtje bij de Dorpskerk aan de Woudenbergseweg 52 de mogelijkheid anderen te ontmoeten en een lekker kopje koffie of thee te drinken. Vanaf 10.00 uur staat de koffie klaar! Iedereen uit Maarsbergen en omgeving is van harte welkom van 10.00 tot 11.30 uur. Voor vragen kunt u contact opnemen met Nel van Wolfswinkel: 06-15181496
URL:https://pknmm.nl/activiteit/8892/2027-06-16/
LOCATION:Gebouwtje bij Dorpskerk
CATEGORIES:Koffie Ochtend
END:VEVENT
BEGIN:VEVENT
DTSTART;TZID=Europe/Amsterdam:20270617T100000
DTEND;TZID=Europe/Amsterdam:20270617T113000
DTSTAMP:20260425T033649
CREATED:20260330T122702Z
LAST-MODIFIED:20260330T123223Z
UID:10005785-1813226400-1813231800@pknmm.nl
SUMMARY:koffiemorgen in de Ontmoetingskapel
DESCRIPTION:Iedere donderdag is er in de Ontmoetingskapel de mogelijkheid anderen te ontmoeten en een lekker kopje koffie of thee te drinken. De gastvrouwen hebben vanaf 10.00 uur de koffie klaar! Iedereen is welkom\, ongeacht leeftijd. Vragen? Betty de Jong\, 033-2580830\, bettydejong@gmail.com 
URL:https://pknmm.nl/activiteit/koffiemorgen-in-de-ontmoetingskapel/2027-06-17/
LOCATION:Ontmoetingskapel\, Kapelweg 45\, Maarn
END:VEVENT
BEGIN:VEVENT
DTSTART;TZID=Europe/Amsterdam:20270619T093000
DTEND;TZID=Europe/Amsterdam:20270619T120000
DTSTAMP:20260425T033649
CREATED:20250613T090123Z
LAST-MODIFIED:20250613T091041Z
UID:10005378-1813397400-1813406400@pknmm.nl
SUMMARY:Repair café Ontmoetingskapel Maarn
DESCRIPTION:Het kan altijd gebeuren:\n\n\n​Een kledingstuk\, CD- of Dvd-speler\, grasmaaier\, stofzuiger\, lamp\, of speelgoed. Alles gaat een keer kapot. Geen nood\, kom met de kapotte spullen naar het Repaircafé in de Ontmoetingskapel in Maarn. \nTijdens een Repaircafé kunt u met hun kapotte spullen naar de  in Ontmoetingskapel aan de Kapelweg in Maarn komen. Deskundige vrijwilligers zullen daar proberen die spullen te repareren.​Onze reparatiediensten worden gratis aangeboden. Alleen als er vervangende onderdelen nodig zijn dienen de kosten daarvan ter plekke te worden afgerekend.Een vrijwillige bijdrage wordt echter zeer op prijs gesteld. \n\n\n\n\n\n			\n			\n				\n				\n				\n				\n			\n				\n				\n				\n				\n				\n				\n				\n				\n				\n				\n				De eerstvolgende data: iedere derde zaterdag van de maand. \n			\n			\n				\n				\n				\n				\n			\n				\n				\n				\n				\n				\n				\n				\n				\n				\n				\n				Het Repaircafé in Maarn is mede mogelijk door onze sponsoren:
URL:https://pknmm.nl/activiteit/repair-cafe-ontmoetingskapel-maarn-2/2027-06-19/
LOCATION:Ontmoetingskapel\, Kapelweg 45\, Maarn
CATEGORIES:Algemeen
END:VEVENT
BEGIN:VEVENT
DTSTART;TZID=Europe/Amsterdam:20270623T100000
DTEND;TZID=Europe/Amsterdam:20270623T113000
DTSTAMP:20260425T033649
CREATED:20250109T172113Z
LAST-MODIFIED:20250109T173835Z
UID:10005087-1813744800-1813750200@pknmm.nl
SUMMARY:Koffieochtend in 't Gebouwtje bij de Dorpskerk
DESCRIPTION:Iedere woensdag is er in ’t Gebouwtje bij de Dorpskerk aan de Woudenbergseweg 52 de mogelijkheid anderen te ontmoeten en een lekker kopje koffie of thee te drinken. Vanaf 10.00 uur staat de koffie klaar! Iedereen uit Maarsbergen en omgeving is van harte welkom van 10.00 tot 11.30 uur. Voor vragen kunt u contact opnemen met Nel van Wolfswinkel: 06-15181496
URL:https://pknmm.nl/activiteit/8892/2027-06-23/
LOCATION:Gebouwtje bij Dorpskerk
CATEGORIES:Koffie Ochtend
END:VEVENT
BEGIN:VEVENT
DTSTART;TZID=Europe/Amsterdam:20270624T100000
DTEND;TZID=Europe/Amsterdam:20270624T113000
DTSTAMP:20260425T033649
CREATED:20260330T122702Z
LAST-MODIFIED:20260330T123223Z
UID:10005786-1813831200-1813836600@pknmm.nl
SUMMARY:koffiemorgen in de Ontmoetingskapel
DESCRIPTION:Iedere donderdag is er in de Ontmoetingskapel de mogelijkheid anderen te ontmoeten en een lekker kopje koffie of thee te drinken. De gastvrouwen hebben vanaf 10.00 uur de koffie klaar! Iedereen is welkom\, ongeacht leeftijd. Vragen? Betty de Jong\, 033-2580830\, bettydejong@gmail.com 
URL:https://pknmm.nl/activiteit/koffiemorgen-in-de-ontmoetingskapel/2027-06-24/
LOCATION:Ontmoetingskapel\, Kapelweg 45\, Maarn
END:VEVENT
BEGIN:VEVENT
DTSTART;TZID=Europe/Amsterdam:20270630T100000
DTEND;TZID=Europe/Amsterdam:20270630T113000
DTSTAMP:20260425T033649
CREATED:20250109T172113Z
LAST-MODIFIED:20250109T173835Z
UID:10005088-1814349600-1814355000@pknmm.nl
SUMMARY:Koffieochtend in 't Gebouwtje bij de Dorpskerk
DESCRIPTION:Iedere woensdag is er in ’t Gebouwtje bij de Dorpskerk aan de Woudenbergseweg 52 de mogelijkheid anderen te ontmoeten en een lekker kopje koffie of thee te drinken. Vanaf 10.00 uur staat de koffie klaar! Iedereen uit Maarsbergen en omgeving is van harte welkom van 10.00 tot 11.30 uur. Voor vragen kunt u contact opnemen met Nel van Wolfswinkel: 06-15181496
URL:https://pknmm.nl/activiteit/8892/2027-06-30/
LOCATION:Gebouwtje bij Dorpskerk
CATEGORIES:Koffie Ochtend
END:VEVENT
BEGIN:VEVENT
DTSTART;TZID=Europe/Amsterdam:20270701T100000
DTEND;TZID=Europe/Amsterdam:20270701T113000
DTSTAMP:20260425T033649
CREATED:20260330T122702Z
LAST-MODIFIED:20260330T123223Z
UID:10005787-1814436000-1814441400@pknmm.nl
SUMMARY:koffiemorgen in de Ontmoetingskapel
DESCRIPTION:Iedere donderdag is er in de Ontmoetingskapel de mogelijkheid anderen te ontmoeten en een lekker kopje koffie of thee te drinken. De gastvrouwen hebben vanaf 10.00 uur de koffie klaar! Iedereen is welkom\, ongeacht leeftijd. Vragen? Betty de Jong\, 033-2580830\, bettydejong@gmail.com 
URL:https://pknmm.nl/activiteit/koffiemorgen-in-de-ontmoetingskapel/2027-07-01/
LOCATION:Ontmoetingskapel\, Kapelweg 45\, Maarn
END:VEVENT
BEGIN:VEVENT
DTSTART;TZID=Europe/Amsterdam:20270707T100000
DTEND;TZID=Europe/Amsterdam:20270707T113000
DTSTAMP:20260425T033649
CREATED:20250109T172113Z
LAST-MODIFIED:20250109T173835Z
UID:10005089-1814954400-1814959800@pknmm.nl
SUMMARY:Koffieochtend in 't Gebouwtje bij de Dorpskerk
DESCRIPTION:Iedere woensdag is er in ’t Gebouwtje bij de Dorpskerk aan de Woudenbergseweg 52 de mogelijkheid anderen te ontmoeten en een lekker kopje koffie of thee te drinken. Vanaf 10.00 uur staat de koffie klaar! Iedereen uit Maarsbergen en omgeving is van harte welkom van 10.00 tot 11.30 uur. Voor vragen kunt u contact opnemen met Nel van Wolfswinkel: 06-15181496
URL:https://pknmm.nl/activiteit/8892/2027-07-07/
LOCATION:Gebouwtje bij Dorpskerk
CATEGORIES:Koffie Ochtend
END:VEVENT
BEGIN:VEVENT
DTSTART;TZID=Europe/Amsterdam:20270708T100000
DTEND;TZID=Europe/Amsterdam:20270708T113000
DTSTAMP:20260425T033649
CREATED:20260330T122702Z
LAST-MODIFIED:20260330T123223Z
UID:10005788-1815040800-1815046200@pknmm.nl
SUMMARY:koffiemorgen in de Ontmoetingskapel
DESCRIPTION:Iedere donderdag is er in de Ontmoetingskapel de mogelijkheid anderen te ontmoeten en een lekker kopje koffie of thee te drinken. De gastvrouwen hebben vanaf 10.00 uur de koffie klaar! Iedereen is welkom\, ongeacht leeftijd. Vragen? Betty de Jong\, 033-2580830\, bettydejong@gmail.com 
URL:https://pknmm.nl/activiteit/koffiemorgen-in-de-ontmoetingskapel/2027-07-08/
LOCATION:Ontmoetingskapel\, Kapelweg 45\, Maarn
END:VEVENT
BEGIN:VEVENT
DTSTART;TZID=Europe/Amsterdam:20270714T100000
DTEND;TZID=Europe/Amsterdam:20270714T113000
DTSTAMP:20260425T033649
CREATED:20250109T172113Z
LAST-MODIFIED:20250109T173835Z
UID:10005090-1815559200-1815564600@pknmm.nl
SUMMARY:Koffieochtend in 't Gebouwtje bij de Dorpskerk
DESCRIPTION:Iedere woensdag is er in ’t Gebouwtje bij de Dorpskerk aan de Woudenbergseweg 52 de mogelijkheid anderen te ontmoeten en een lekker kopje koffie of thee te drinken. Vanaf 10.00 uur staat de koffie klaar! Iedereen uit Maarsbergen en omgeving is van harte welkom van 10.00 tot 11.30 uur. Voor vragen kunt u contact opnemen met Nel van Wolfswinkel: 06-15181496
URL:https://pknmm.nl/activiteit/8892/2027-07-14/
LOCATION:Gebouwtje bij Dorpskerk
CATEGORIES:Koffie Ochtend
END:VEVENT
BEGIN:VEVENT
DTSTART;TZID=Europe/Amsterdam:20270715T100000
DTEND;TZID=Europe/Amsterdam:20270715T113000
DTSTAMP:20260425T033649
CREATED:20260330T122702Z
LAST-MODIFIED:20260330T123223Z
UID:10005789-1815645600-1815651000@pknmm.nl
SUMMARY:koffiemorgen in de Ontmoetingskapel
DESCRIPTION:Iedere donderdag is er in de Ontmoetingskapel de mogelijkheid anderen te ontmoeten en een lekker kopje koffie of thee te drinken. De gastvrouwen hebben vanaf 10.00 uur de koffie klaar! Iedereen is welkom\, ongeacht leeftijd. Vragen? Betty de Jong\, 033-2580830\, bettydejong@gmail.com 
URL:https://pknmm.nl/activiteit/koffiemorgen-in-de-ontmoetingskapel/2027-07-15/
LOCATION:Ontmoetingskapel\, Kapelweg 45\, Maarn
END:VEVENT
BEGIN:VEVENT
DTSTART;TZID=Europe/Amsterdam:20270717T093000
DTEND;TZID=Europe/Amsterdam:20270717T120000
DTSTAMP:20260425T033649
CREATED:20250613T090123Z
LAST-MODIFIED:20250613T091041Z
UID:10005379-1815816600-1815825600@pknmm.nl
SUMMARY:Repair café Ontmoetingskapel Maarn
DESCRIPTION:Het kan altijd gebeuren:\n\n\n​Een kledingstuk\, CD- of Dvd-speler\, grasmaaier\, stofzuiger\, lamp\, of speelgoed. Alles gaat een keer kapot. Geen nood\, kom met de kapotte spullen naar het Repaircafé in de Ontmoetingskapel in Maarn. \nTijdens een Repaircafé kunt u met hun kapotte spullen naar de  in Ontmoetingskapel aan de Kapelweg in Maarn komen. Deskundige vrijwilligers zullen daar proberen die spullen te repareren.​Onze reparatiediensten worden gratis aangeboden. Alleen als er vervangende onderdelen nodig zijn dienen de kosten daarvan ter plekke te worden afgerekend.Een vrijwillige bijdrage wordt echter zeer op prijs gesteld. \n\n\n\n\n\n			\n			\n				\n				\n				\n				\n			\n				\n				\n				\n				\n				\n				\n				\n				\n				\n				\n				De eerstvolgende data: iedere derde zaterdag van de maand. \n			\n			\n				\n				\n				\n				\n			\n				\n				\n				\n				\n				\n				\n				\n				\n				\n				\n				Het Repaircafé in Maarn is mede mogelijk door onze sponsoren:
URL:https://pknmm.nl/activiteit/repair-cafe-ontmoetingskapel-maarn-2/2027-07-17/
LOCATION:Ontmoetingskapel\, Kapelweg 45\, Maarn
CATEGORIES:Algemeen
END:VEVENT
BEGIN:VEVENT
DTSTART;TZID=Europe/Amsterdam:20270721T100000
DTEND;TZID=Europe/Amsterdam:20270721T113000
DTSTAMP:20260425T033649
CREATED:20250109T172113Z
LAST-MODIFIED:20250109T173835Z
UID:10005091-1816164000-1816169400@pknmm.nl
SUMMARY:Koffieochtend in 't Gebouwtje bij de Dorpskerk
DESCRIPTION:Iedere woensdag is er in ’t Gebouwtje bij de Dorpskerk aan de Woudenbergseweg 52 de mogelijkheid anderen te ontmoeten en een lekker kopje koffie of thee te drinken. Vanaf 10.00 uur staat de koffie klaar! Iedereen uit Maarsbergen en omgeving is van harte welkom van 10.00 tot 11.30 uur. Voor vragen kunt u contact opnemen met Nel van Wolfswinkel: 06-15181496
URL:https://pknmm.nl/activiteit/8892/2027-07-21/
LOCATION:Gebouwtje bij Dorpskerk
CATEGORIES:Koffie Ochtend
END:VEVENT
BEGIN:VEVENT
DTSTART;TZID=Europe/Amsterdam:20270722T100000
DTEND;TZID=Europe/Amsterdam:20270722T113000
DTSTAMP:20260425T033649
CREATED:20260330T122702Z
LAST-MODIFIED:20260330T123223Z
UID:10005790-1816250400-1816255800@pknmm.nl
SUMMARY:koffiemorgen in de Ontmoetingskapel
DESCRIPTION:Iedere donderdag is er in de Ontmoetingskapel de mogelijkheid anderen te ontmoeten en een lekker kopje koffie of thee te drinken. De gastvrouwen hebben vanaf 10.00 uur de koffie klaar! Iedereen is welkom\, ongeacht leeftijd. Vragen? Betty de Jong\, 033-2580830\, bettydejong@gmail.com 
URL:https://pknmm.nl/activiteit/koffiemorgen-in-de-ontmoetingskapel/2027-07-22/
LOCATION:Ontmoetingskapel\, Kapelweg 45\, Maarn
END:VEVENT
BEGIN:VEVENT
DTSTART;TZID=Europe/Amsterdam:20270728T100000
DTEND;TZID=Europe/Amsterdam:20270728T113000
DTSTAMP:20260425T033649
CREATED:20250109T172113Z
LAST-MODIFIED:20250109T173835Z
UID:10005092-1816768800-1816774200@pknmm.nl
SUMMARY:Koffieochtend in 't Gebouwtje bij de Dorpskerk
DESCRIPTION:Iedere woensdag is er in ’t Gebouwtje bij de Dorpskerk aan de Woudenbergseweg 52 de mogelijkheid anderen te ontmoeten en een lekker kopje koffie of thee te drinken. Vanaf 10.00 uur staat de koffie klaar! Iedereen uit Maarsbergen en omgeving is van harte welkom van 10.00 tot 11.30 uur. Voor vragen kunt u contact opnemen met Nel van Wolfswinkel: 06-15181496
URL:https://pknmm.nl/activiteit/8892/2027-07-28/
LOCATION:Gebouwtje bij Dorpskerk
CATEGORIES:Koffie Ochtend
END:VEVENT
END:VCALENDAR