BEGIN:VCALENDAR
VERSION:2.0
PRODID:-//Protestantse Gemeente Maarn-Maarsbergen - ECPv6.15.12.2//NONSGML v1.0//EN
CALSCALE:GREGORIAN
METHOD:PUBLISH
X-WR-CALNAME:Protestantse Gemeente Maarn-Maarsbergen
X-ORIGINAL-URL:https://pknmm.nl
X-WR-CALDESC:Evenementen voor Protestantse Gemeente Maarn-Maarsbergen
REFRESH-INTERVAL;VALUE=DURATION:PT1H
X-Robots-Tag:noindex
X-PUBLISHED-TTL:PT1H
BEGIN:VTIMEZONE
TZID:Europe/Amsterdam
BEGIN:DAYLIGHT
TZOFFSETFROM:+0100
TZOFFSETTO:+0200
TZNAME:CEST
DTSTART:20250330T010000
END:DAYLIGHT
BEGIN:STANDARD
TZOFFSETFROM:+0200
TZOFFSETTO:+0100
TZNAME:CET
DTSTART:20251026T010000
END:STANDARD
BEGIN:DAYLIGHT
TZOFFSETFROM:+0100
TZOFFSETTO:+0200
TZNAME:CEST
DTSTART:20260329T010000
END:DAYLIGHT
BEGIN:STANDARD
TZOFFSETFROM:+0200
TZOFFSETTO:+0100
TZNAME:CET
DTSTART:20261025T010000
END:STANDARD
BEGIN:DAYLIGHT
TZOFFSETFROM:+0100
TZOFFSETTO:+0200
TZNAME:CEST
DTSTART:20270328T010000
END:DAYLIGHT
BEGIN:STANDARD
TZOFFSETFROM:+0200
TZOFFSETTO:+0100
TZNAME:CET
DTSTART:20271031T010000
END:STANDARD
END:VTIMEZONE
BEGIN:VEVENT
DTSTART;TZID=Europe/Amsterdam:20260130T170000
DTEND;TZID=Europe/Amsterdam:20260130T200000
DTSTAMP:20260424T170740
CREATED:20251223T155452Z
LAST-MODIFIED:20260116T174055Z
UID:10005650-1769792400-1769803200@pknmm.nl
SUMMARY:Soepavond in de Ontmoetingskapel
DESCRIPTION:Vanaf 17.00u bent u welkom voor een glaasje en een praatje.Om 17.15u gaan we aan tafelDe kosten zijn €3\,00 p.p\, kinderen tot 12 jaar gratisGraag opgeven vóór 25 januari om te komen eten.Wie wil er soep koken? Meldt je aan!Teken in op de lijst die na de Zondagsdienst in de Kapel ligt of bel:Gilda Hoogers     (0343)756956Ina van Essen     (0343)441980Of stuur een e-mail naar inavanessen1949@gmail.com
URL:https://pknmm.nl/activiteit/soepavond-in-de-ontmoetingskapel/
LOCATION:Ontmoetingskapel\, Kapelweg 45\, Maarn
CATEGORIES:Samen eten
END:VEVENT
BEGIN:VEVENT
DTSTART;TZID=Europe/Amsterdam:20260224T170000
DTEND;TZID=Europe/Amsterdam:20260224T190000
DTSTAMP:20260424T170740
CREATED:20260207T112912Z
LAST-MODIFIED:20260207T112915Z
UID:10005679-1771952400-1771959600@pknmm.nl
SUMMARY:Wereldgerechten in 't Gebouwtje
DESCRIPTION:Wij nodigen u uit op dinsdag 24 februari 2026 voor een wereldgerechtenmaaltijd in ‘t Gebouwtje  in Maarsbergen. Vindt u het leuk om ons te verrassen met het bereiden van een “wereldgerecht”\, daar zijn we heel blij mee!Laat het ons weten.U bent van harte welkom vanaf 17.00 uur voor een drankje en om 17.30 uur wordt het buffet geopend.Eet u mee? Geef u dan op vóór 20 februari 2026\, er ligt een intekenlijst in ’t Gebouwtje\, maar u kunt zich ook opgeven bij Lien Odijk (06-22484952) of Nel van Wolfswinkel  (06-15181496). Voor een vrijwillige bijdrage staat een daarvoor bestemde bus in de hal van ’t Gebouwtje. We hopen dat u erbij bent. \nEverdien\, Yvonne\, Lien en Nel
URL:https://pknmm.nl/activiteit/wereldgerechten-in-t-gebouwtje/
LOCATION:’t Gebouwtje bij de Dorpskerk Maarsbergen
CATEGORIES:Samen eten
END:VEVENT
END:VCALENDAR