BEGIN:VCALENDAR
VERSION:2.0
PRODID:-//Protestantse Gemeente Maarn-Maarsbergen - ECPv6.15.12.2//NONSGML v1.0//EN
CALSCALE:GREGORIAN
METHOD:PUBLISH
X-ORIGINAL-URL:https://pknmm.nl
X-WR-CALDESC:Evenementen voor Protestantse Gemeente Maarn-Maarsbergen
REFRESH-INTERVAL;VALUE=DURATION:PT1H
X-Robots-Tag:noindex
X-PUBLISHED-TTL:PT1H
BEGIN:VTIMEZONE
TZID:Europe/Amsterdam
BEGIN:DAYLIGHT
TZOFFSETFROM:+0100
TZOFFSETTO:+0200
TZNAME:CEST
DTSTART:20240331T010000
END:DAYLIGHT
BEGIN:STANDARD
TZOFFSETFROM:+0200
TZOFFSETTO:+0100
TZNAME:CET
DTSTART:20241027T010000
END:STANDARD
BEGIN:DAYLIGHT
TZOFFSETFROM:+0100
TZOFFSETTO:+0200
TZNAME:CEST
DTSTART:20250330T010000
END:DAYLIGHT
BEGIN:STANDARD
TZOFFSETFROM:+0200
TZOFFSETTO:+0100
TZNAME:CET
DTSTART:20251026T010000
END:STANDARD
BEGIN:DAYLIGHT
TZOFFSETFROM:+0100
TZOFFSETTO:+0200
TZNAME:CEST
DTSTART:20260329T010000
END:DAYLIGHT
BEGIN:STANDARD
TZOFFSETFROM:+0200
TZOFFSETTO:+0100
TZNAME:CET
DTSTART:20261025T010000
END:STANDARD
END:VTIMEZONE
BEGIN:VEVENT
DTSTART;TZID=Europe/Amsterdam:20251001T173000
DTEND;TZID=Europe/Amsterdam:20251001T193000
DTSTAMP:20260424T200257
CREATED:20241210T210837Z
LAST-MODIFIED:20241210T211249Z
UID:10004664-1759339800-1759347000@pknmm.nl
SUMMARY:Samen eten op woensdag in de Ontmoetingskapel
DESCRIPTION:Iedere eerste woensdag van de maand wordt er samen gegeten in de Ontmoetingskapel\, Kapelweg 45 in Maarn. \nWat is het weer gezellig zo met elkaar te eten\, vooral als je vaak alleen zit is dit echt een uitje 1 keer per maand. Maximaal 20 personen kunnen deelnemen en men kan zich de maandag daarvoor opgeven bij: \nJanny Korving (0343) 44 46 46Corrie de Haij (0343) 44 32 09Gilda Hoogers (0343) 75 69 56
URL:https://pknmm.nl/activiteit/samen-eten-op-woensdag-in-de-ontmoetingskapel-2/2025-10-01/
CATEGORIES:Samen eten
END:VEVENT
BEGIN:VEVENT
DTSTART;TZID=Europe/Amsterdam:20251022T163000
DTEND;TZID=Europe/Amsterdam:20251022T190000
DTSTAMP:20260424T200257
CREATED:20251004T173652Z
LAST-MODIFIED:20251004T174816Z
UID:10005470-1761150600-1761159600@pknmm.nl
SUMMARY:Stamppottenmaaltijd in 't Gebouwtje
DESCRIPTION:Wij nodigen u uit op woensdag 22 oktober voor een stampottenmaaltijd in ‘t Gebouwtje  in Maarsbergen. U kunt genieten van diverse “herfstkleur-gerechten”\, zoals (oranje) hutspot\, (rode) koolschotel\, (gele) aardappelsalade. Vindt u het leuk om ons te verrassen met het bereiden van een “herfstkleur-gerecht”\, daar zijn we heel blij mee! Laat het ons weten. U bent van harte welkom vanaf 16.30 uur voor een drankje en om 17.30 uur wordt het buffet geopend. Eet u mee? Geef u dan op vóór 20 oktober\, er ligt een intekenlijst in ’t Gebouwtje\, maar u kunt zich ook opgeven bij Lien Odijk (06-22484952) of Nel van Wolfswinkel (06-15181496) \nVoor een vrijwillige bijdrage staat een daarvoor bestemde bus in de hal van ’t Gebouwtje. We hopen dat u erbij bent.
URL:https://pknmm.nl/activiteit/stamppotenmaaltijd-in-t-gebouwtje/
LOCATION:’t Gebouwtje bij de Dorpskerk Maarsbergen
CATEGORIES:Samen eten
END:VEVENT
END:VCALENDAR