BEGIN:VCALENDAR
VERSION:2.0
PRODID:-//Protestantse Gemeente Maarn-Maarsbergen - ECPv6.15.12.2//NONSGML v1.0//EN
CALSCALE:GREGORIAN
METHOD:PUBLISH
X-WR-CALNAME:Protestantse Gemeente Maarn-Maarsbergen
X-ORIGINAL-URL:https://pknmm.nl
X-WR-CALDESC:Evenementen voor Protestantse Gemeente Maarn-Maarsbergen
REFRESH-INTERVAL;VALUE=DURATION:PT1H
X-Robots-Tag:noindex
X-PUBLISHED-TTL:PT1H
BEGIN:VTIMEZONE
TZID:Europe/Amsterdam
BEGIN:DAYLIGHT
TZOFFSETFROM:+0100
TZOFFSETTO:+0200
TZNAME:CEST
DTSTART:20230326T010000
END:DAYLIGHT
BEGIN:STANDARD
TZOFFSETFROM:+0200
TZOFFSETTO:+0100
TZNAME:CET
DTSTART:20231029T010000
END:STANDARD
BEGIN:DAYLIGHT
TZOFFSETFROM:+0100
TZOFFSETTO:+0200
TZNAME:CEST
DTSTART:20240331T010000
END:DAYLIGHT
BEGIN:STANDARD
TZOFFSETFROM:+0200
TZOFFSETTO:+0100
TZNAME:CET
DTSTART:20241027T010000
END:STANDARD
BEGIN:DAYLIGHT
TZOFFSETFROM:+0100
TZOFFSETTO:+0200
TZNAME:CEST
DTSTART:20250330T010000
END:DAYLIGHT
BEGIN:STANDARD
TZOFFSETFROM:+0200
TZOFFSETTO:+0100
TZNAME:CET
DTSTART:20251026T010000
END:STANDARD
END:VTIMEZONE
BEGIN:VEVENT
DTSTART;TZID=Europe/Amsterdam:20241106T173000
DTEND;TZID=Europe/Amsterdam:20241106T193000
DTSTAMP:20260425T132805
CREATED:20240105T164125Z
LAST-MODIFIED:20240105T171749Z
UID:10004109-1730914200-1730921400@pknmm.nl
SUMMARY:Samen eten op woensdag in de Ontmoetingskapel
DESCRIPTION:Iedere eerste woensdag van de maand wordt er samen gegeten in de Ontmoetingskapel\, Kapelweg 45 in Maarn. \nWat is het weer gezellig zo met elkaar te eten\, vooral als je vaak alleen zit is dit echt een uitje 1 keer per maand. Maximaal 20 personen kunnen deelnemen en men kan zich de maandag daarvoor opgeven bij: \nJanny Korving (0343) 44 46 46 Corrie de Haij (0343) 44 32 09 Gilda Hoogers (0343) 75 69 56 
URL:https://pknmm.nl/activiteit/samen-eten-in-de-ontmoetingskapel-4-2/2024-11-06/
LOCATION:Ontmoetingskapel\, Kapelweg 45\, Maarn\, 3951AB
CATEGORIES:Samen eten
END:VEVENT
BEGIN:VEVENT
DTSTART;TZID=Europe/Amsterdam:20241115T171500
DTEND;TZID=Europe/Amsterdam:20241115T193000
DTSTAMP:20260425T132805
CREATED:20241108T160629Z
LAST-MODIFIED:20241108T161324Z
UID:10004634-1731690900-1731699000@pknmm.nl
SUMMARY:Stamppottenavond in de Ontmoetingskapel
DESCRIPTION:Vanaf 17:15 uur bent u welkom voor een glaasje en een praatje.Om 18 uur willen we aan tafel gaan. De kosten zijn € 3 per persoon. \nGraag vooraf opgeven bijGilda Hoogers tel 756956 ofIna van Essen tel 441980
URL:https://pknmm.nl/activiteit/stamppottenavond/
LOCATION:Ontm.kapel  Kapelweg \, Maarn\, Dorpskerk\, Maarsbergen
CATEGORIES:Samen eten
END:VEVENT
BEGIN:VEVENT
DTSTART;TZID=Europe/Amsterdam:20241121T173000
DTEND;TZID=Europe/Amsterdam:20241121T193000
DTSTAMP:20260425T132805
CREATED:20240105T155903Z
LAST-MODIFIED:20240105T172105Z
UID:10004119-1732210200-1732217400@pknmm.nl
SUMMARY:Samen eten op donderdag in de Ontmoetingskapel
DESCRIPTION:Iedere derde donderdag van de maand wordt er samen gegeten in de Ontmoetingskapel\, Kapelweg 45 in Maarn. \nWat is het weer gezellig zo met elkaar te eten\, vooral als je vaak alleen zit is dit echt een uitje 1 keer per maand. Maximaal 20 personen kunnen deelnemen en men kan zich de maandag daarvoor opgeven bij: \nmevr. Ina van Essen\, tel. 441980mevr. Janny Pater\, tel 441363mevr. Clarie Rijksen\, tel 442622
URL:https://pknmm.nl/activiteit/samen-eten-in-de-ontmoetingskapel-4/2024-11-21/
LOCATION:Ontmoetingskapel\, Kapelweg 45\, Maarn\, 3951AB
CATEGORIES:Samen eten
END:VEVENT
END:VCALENDAR