BEGIN:VCALENDAR
VERSION:2.0
PRODID:-//Protestantse Gemeente Maarn-Maarsbergen - ECPv6.15.12.2//NONSGML v1.0//EN
CALSCALE:GREGORIAN
METHOD:PUBLISH
X-WR-CALNAME:Protestantse Gemeente Maarn-Maarsbergen
X-ORIGINAL-URL:https://pknmm.nl
X-WR-CALDESC:Evenementen voor Protestantse Gemeente Maarn-Maarsbergen
REFRESH-INTERVAL;VALUE=DURATION:PT1H
X-Robots-Tag:noindex
X-PUBLISHED-TTL:PT1H
BEGIN:VTIMEZONE
TZID:Europe/Amsterdam
BEGIN:DAYLIGHT
TZOFFSETFROM:+0100
TZOFFSETTO:+0200
TZNAME:CEST
DTSTART:20230326T010000
END:DAYLIGHT
BEGIN:STANDARD
TZOFFSETFROM:+0200
TZOFFSETTO:+0100
TZNAME:CET
DTSTART:20231029T010000
END:STANDARD
BEGIN:DAYLIGHT
TZOFFSETFROM:+0100
TZOFFSETTO:+0200
TZNAME:CEST
DTSTART:20240331T010000
END:DAYLIGHT
BEGIN:STANDARD
TZOFFSETFROM:+0200
TZOFFSETTO:+0100
TZNAME:CET
DTSTART:20241027T010000
END:STANDARD
BEGIN:DAYLIGHT
TZOFFSETFROM:+0100
TZOFFSETTO:+0200
TZNAME:CEST
DTSTART:20250330T010000
END:DAYLIGHT
BEGIN:STANDARD
TZOFFSETFROM:+0200
TZOFFSETTO:+0100
TZNAME:CET
DTSTART:20251026T010000
END:STANDARD
END:VTIMEZONE
BEGIN:VEVENT
DTSTART;TZID=Europe/Amsterdam:20240904T173000
DTEND;TZID=Europe/Amsterdam:20240904T193000
DTSTAMP:20260425T164831
CREATED:20240105T164125Z
LAST-MODIFIED:20240105T171749Z
UID:10004107-1725471000-1725478200@pknmm.nl
SUMMARY:Samen eten op woensdag in de Ontmoetingskapel
DESCRIPTION:Iedere eerste woensdag van de maand wordt er samen gegeten in de Ontmoetingskapel\, Kapelweg 45 in Maarn. \nWat is het weer gezellig zo met elkaar te eten\, vooral als je vaak alleen zit is dit echt een uitje 1 keer per maand. Maximaal 20 personen kunnen deelnemen en men kan zich de maandag daarvoor opgeven bij: \nJanny Korving (0343) 44 46 46 Corrie de Haij (0343) 44 32 09 Gilda Hoogers (0343) 75 69 56 
URL:https://pknmm.nl/activiteit/samen-eten-in-de-ontmoetingskapel-4-2/2024-09-04/
LOCATION:Ontmoetingskapel\, Kapelweg 45\, Maarn\, 3951AB
CATEGORIES:Samen eten
END:VEVENT
BEGIN:VEVENT
DTSTART;TZID=Europe/Amsterdam:20240919T173000
DTEND;TZID=Europe/Amsterdam:20240919T193000
DTSTAMP:20260425T164831
CREATED:20240105T155903Z
LAST-MODIFIED:20240105T172105Z
UID:10004117-1726767000-1726774200@pknmm.nl
SUMMARY:Samen eten op donderdag in de Ontmoetingskapel
DESCRIPTION:Iedere derde donderdag van de maand wordt er samen gegeten in de Ontmoetingskapel\, Kapelweg 45 in Maarn. \nWat is het weer gezellig zo met elkaar te eten\, vooral als je vaak alleen zit is dit echt een uitje 1 keer per maand. Maximaal 20 personen kunnen deelnemen en men kan zich de maandag daarvoor opgeven bij: \nmevr. Ina van Essen\, tel. 441980mevr. Janny Pater\, tel 441363mevr. Clarie Rijksen\, tel 442622
URL:https://pknmm.nl/activiteit/samen-eten-in-de-ontmoetingskapel-4/2024-09-19/
LOCATION:Ontmoetingskapel\, Kapelweg 45\, Maarn\, 3951AB
CATEGORIES:Samen eten
END:VEVENT
END:VCALENDAR