BEGIN:VCALENDAR
VERSION:2.0
PRODID:-//Protestantse Gemeente Maarn-Maarsbergen - ECPv6.15.12.2//NONSGML v1.0//EN
CALSCALE:GREGORIAN
METHOD:PUBLISH
X-WR-CALNAME:Protestantse Gemeente Maarn-Maarsbergen
X-ORIGINAL-URL:https://pknmm.nl
X-WR-CALDESC:Evenementen voor Protestantse Gemeente Maarn-Maarsbergen
REFRESH-INTERVAL;VALUE=DURATION:PT1H
X-Robots-Tag:noindex
X-PUBLISHED-TTL:PT1H
BEGIN:VTIMEZONE
TZID:Europe/Amsterdam
BEGIN:DAYLIGHT
TZOFFSETFROM:+0100
TZOFFSETTO:+0200
TZNAME:CEST
DTSTART:20250330T010000
END:DAYLIGHT
BEGIN:STANDARD
TZOFFSETFROM:+0200
TZOFFSETTO:+0100
TZNAME:CET
DTSTART:20251026T010000
END:STANDARD
BEGIN:DAYLIGHT
TZOFFSETFROM:+0100
TZOFFSETTO:+0200
TZNAME:CEST
DTSTART:20260329T010000
END:DAYLIGHT
BEGIN:STANDARD
TZOFFSETFROM:+0200
TZOFFSETTO:+0100
TZNAME:CET
DTSTART:20261025T010000
END:STANDARD
BEGIN:DAYLIGHT
TZOFFSETFROM:+0100
TZOFFSETTO:+0200
TZNAME:CEST
DTSTART:20270328T010000
END:DAYLIGHT
BEGIN:STANDARD
TZOFFSETFROM:+0200
TZOFFSETTO:+0100
TZNAME:CET
DTSTART:20271031T010000
END:STANDARD
END:VTIMEZONE
BEGIN:VEVENT
DTSTART;TZID=Europe/Amsterdam:20260426T100000
DTEND;TZID=Europe/Amsterdam:20260426T113000
DTSTAMP:20260426T031224
CREATED:20230225T151815Z
LAST-MODIFIED:20260424T173243Z
UID:10005712-1777197600-1777203000@pknmm.nl
SUMMARY:Dorpskerk – ds. C. Hoogerwerf
DESCRIPTION:Vandaag is er kerkdienst in en uitzending vanuit de Dorpskerk (klik daar op).De Orde van Dienst vindt u hier.De diaconale collecte is vandaag bestemd voor Kerk in Actie: Kenia: meer vrouwelijke predikanten (studiebeurs).Meer informatie vindt u hier. \n			\n			\n				\n				\n				\n				\n			\n				\n				\n				\n				\n				\n				\n				\n				\n				\n				\n				\n			\n			\n				\n				\n				\n				\n				\n				\n				\n				\n				\n				U kunt klikken op de collectezak.\nOp deze pagina kiest u: Openen op deze website.\nOp de volgende pagina kiest u: Gift/donatie. \nBij Bedrag per doel kiest u per doel het bedrag dat u wilt geven. Daarna klikt u op Volgende.\nBevestig daarna de giften (2 vinkjes)\, dan Opslaan en versturen. Kies uw bank en ga naar Volgende.\nTot slot kunt u met IDEAL het totaalbedrag overmaken naar de rekening van de kerk.\n			\n			\n				\n				\n				\n				\n			\n				\n				\n				\n				\n				\n				\n				\n				\n				\n				\n				\n			\n			\n				\n				\n				\n				\n				\n				\n				\n				\n				\n				U kunt de QR-code scannen met de camerafunctie van uw smartphone.\nOp deze pagina kiest u: Openen op deze website.\nOp de volgende pagina kiest u: Gift/donatie.\nBij Bedrag per doel kiest u per doel het bedrag dat u wilt geven. Daarna klikt u op Volgende.\nBevestig daarna de giften (2 vinkjes)\, dan Opslaan en versturen. Kies uw bank en ga naar Volgende.\nTot slot kunt u met IDEAL het totaalbedrag overmaken naar de rekening van de kerk
URL:https://pknmm.nl/activiteit/6-7-15-17-30-31-32-33-37-41-42-47-51-54-103/
LOCATION:Dorpskerk in Maarsbergen\, Woudenbergseweg 52\, Maarsbergen\, 3953 MH
CATEGORIES:Kerkdiensten Maarsbergen
END:VEVENT
BEGIN:VEVENT
DTSTART;TZID=Europe/Amsterdam:20260426T100000
DTEND;TZID=Europe/Amsterdam:20260426T113000
DTSTAMP:20260426T031224
CREATED:20230301T182326Z
LAST-MODIFIED:20260421T114557Z
UID:10005706-1777197600-1777203000@pknmm.nl
SUMMARY:Ontmoetingskapel – ds. Christien Flier
DESCRIPTION:Vandaag is er een dienst in en uitzending vanuit de Ontmoetingskapel(klik daar op)De Orde van Dienst vindt u hier.De diaconale collecte is vandaag bestemd voor Kerk in Actie: Kenia: meer vrouwelijke predikanten (studiebeurs).Meer informatie vindt u hier. \n  \n			\n			\n				\n				\n				\n				\n			\n				\n				\n				\n				\n				\n				\n				\n				\n				\n				\n				\n			\n			\n				\n				\n				\n				\n				\n				\n				\n				\n				\n				U kunt klikken op de collectezak.\nOp deze pagina kiest u: Openen op deze website.\nOp de volgende pagina kiest u: Gift/donatie. \nBij Bedrag per doel kiest u per doel het bedrag dat u wilt geven. Daarna klikt u op Volgende.\nBevestig daarna de giften (2 vinkjes)\, dan Opslaan en versturen. Kies uw bank en ga naar Volgende.\nTot slot kunt u met IDEAL het totaalbedrag overmaken naar de rekening van de kerk.\n			\n			\n				\n				\n				\n				\n			\n				\n				\n				\n				\n				\n				\n				\n				\n				\n				\n				\n			\n			\n				\n				\n				\n				\n				\n				\n				\n				\n				\n				U kunt de QR-code scannen met de camerafunctie van uw smartphone.\nOp deze pagina kiest u: Openen op deze website.\nOp de volgende pagina kiest u: Gift/donatie.\nBij Bedrag per doel kiest u per doel het bedrag dat u wilt geven. Daarna klikt u op Volgende.\nBevestig daarna de giften (2 vinkjes)\, dan Opslaan en versturen. Kies uw bank en ga naar Volgende.\nTot slot kunt u met IDEAL het totaalbedrag overmaken naar de rekening van de kerk
URL:https://pknmm.nl/activiteit/5-6-8-19-21-26-29-30-32-38-47-51-52-54-55-42-59/
LOCATION:Ontmoetingskapel\, Kapelweg 45\, Maarn\, 3951AB
CATEGORIES:Kerkdiensten Maarn
END:VEVENT
END:VCALENDAR