BEGIN:VCALENDAR
VERSION:2.0
PRODID:-//Protestantse Gemeente Maarn-Maarsbergen - ECPv6.15.12.2//NONSGML v1.0//EN
CALSCALE:GREGORIAN
METHOD:PUBLISH
X-WR-CALNAME:Protestantse Gemeente Maarn-Maarsbergen
X-ORIGINAL-URL:https://pknmm.nl
X-WR-CALDESC:Evenementen voor Protestantse Gemeente Maarn-Maarsbergen
REFRESH-INTERVAL;VALUE=DURATION:PT1H
X-Robots-Tag:noindex
X-PUBLISHED-TTL:PT1H
BEGIN:VTIMEZONE
TZID:Europe/Amsterdam
BEGIN:DAYLIGHT
TZOFFSETFROM:+0100
TZOFFSETTO:+0200
TZNAME:CEST
DTSTART:20250330T010000
END:DAYLIGHT
BEGIN:STANDARD
TZOFFSETFROM:+0200
TZOFFSETTO:+0100
TZNAME:CET
DTSTART:20251026T010000
END:STANDARD
BEGIN:DAYLIGHT
TZOFFSETFROM:+0100
TZOFFSETTO:+0200
TZNAME:CEST
DTSTART:20260329T010000
END:DAYLIGHT
BEGIN:STANDARD
TZOFFSETFROM:+0200
TZOFFSETTO:+0100
TZNAME:CET
DTSTART:20261025T010000
END:STANDARD
BEGIN:DAYLIGHT
TZOFFSETFROM:+0100
TZOFFSETTO:+0200
TZNAME:CEST
DTSTART:20270328T010000
END:DAYLIGHT
BEGIN:STANDARD
TZOFFSETFROM:+0200
TZOFFSETTO:+0100
TZNAME:CET
DTSTART:20271031T010000
END:STANDARD
END:VTIMEZONE
BEGIN:VEVENT
DTSTART;TZID=Europe/Amsterdam:20260422T100000
DTEND;TZID=Europe/Amsterdam:20260422T113000
DTSTAMP:20260422T122055
CREATED:20250109T172113Z
LAST-MODIFIED:20250109T173835Z
UID:10005026-1776852000-1776857400@pknmm.nl
SUMMARY:Koffieochtend in 't Gebouwtje bij de Dorpskerk
DESCRIPTION:Iedere woensdag is er in ’t Gebouwtje bij de Dorpskerk aan de Woudenbergseweg 52 de mogelijkheid anderen te ontmoeten en een lekker kopje koffie of thee te drinken. Vanaf 10.00 uur staat de koffie klaar! Iedereen uit Maarsbergen en omgeving is van harte welkom van 10.00 tot 11.30 uur. Voor vragen kunt u contact opnemen met Nel van Wolfswinkel: 06-15181496
URL:https://pknmm.nl/activiteit/8892/2026-04-22/
LOCATION:Gebouwtje bij Dorpskerk
CATEGORIES:Koffie Ochtend
END:VEVENT
BEGIN:VEVENT
DTSTART;TZID=Europe/Amsterdam:20260422T200000
DTEND;TZID=Europe/Amsterdam:20260422T223000
DTSTAMP:20260422T122055
CREATED:20250516T174833Z
LAST-MODIFIED:20250516T174837Z
UID:10005328-1776888000-1776897000@pknmm.nl
SUMMARY:Filmavond in de Ontmoetingskapel
DESCRIPTION:‘The great escaper’ uit 2023\, geregisseerd door Oliver Parker\, 96 minuten \n			\n			\n				\n				\n				\n				\n			\n				\n				\n				\n				\n				\n				\n				\n				\n				\n				\n				\n			\n			\n				\n				\n				\n				\n				\n				\n				\n				\n				\n				De film is gebaseerd op het waargebeurde verhaal van veteraan Bernard Jordan die in 2014 de krant haalde nadat hij spoorloos uit zijn verzorgingstehuis was verdwenen en op de bonnefooi naar de Franse kust bleek te zijn afgereisd. \nDatum:         Woensdag 22 april 2026Plaats:          Ontmoetingskapel\, Kapelweg 45\, MaarnTijd:               Aanvang 20:00 uur\, vanaf 19:30 welkom                       voor koffie of thee\, na afloop napraten                       bij een glaasje wijn of frisBegeleiding: Jan SpilkerVragen:         email jan.spilker@planet.nl of                       telefoon 06-22975996Entree:          Vrijwillige bijdrage (richtbedrag € 7)
URL:https://pknmm.nl/activiteit/filmavond-in-de-ontmoetingskapel-5/
LOCATION:Ontmoetingskapel\, Kapelweg 45\, Maarn
CATEGORIES:Film
END:VEVENT
END:VCALENDAR